BEGIN:VCALENDAR
VERSION:2.0
PRODID:-//Clarendon County Chamber of Commerce - ECPv6.2.0//NONSGML v1.0//EN
CALSCALE:GREGORIAN
METHOD:PUBLISH
X-WR-CALNAME:Clarendon County Chamber of Commerce
X-ORIGINAL-URL:https://clarendoncounty.com
X-WR-CALDESC:Events for Clarendon County Chamber of Commerce
REFRESH-INTERVAL;VALUE=DURATION:PT1H
X-Robots-Tag:noindex
X-PUBLISHED-TTL:PT1H
BEGIN:VTIMEZONE
TZID:America/New_York
BEGIN:DAYLIGHT
TZOFFSETFROM:-0500
TZOFFSETTO:-0400
TZNAME:EDT
DTSTART:20230312T070000
END:DAYLIGHT
BEGIN:STANDARD
TZOFFSETFROM:-0400
TZOFFSETTO:-0500
TZNAME:EST
DTSTART:20231105T060000
END:STANDARD
BEGIN:DAYLIGHT
TZOFFSETFROM:-0500
TZOFFSETTO:-0400
TZNAME:EDT
DTSTART:20240310T070000
END:DAYLIGHT
BEGIN:STANDARD
TZOFFSETFROM:-0400
TZOFFSETTO:-0500
TZNAME:EST
DTSTART:20241103T060000
END:STANDARD
BEGIN:DAYLIGHT
TZOFFSETFROM:-0500
TZOFFSETTO:-0400
TZNAME:EDT
DTSTART:20250309T070000
END:DAYLIGHT
BEGIN:STANDARD
TZOFFSETFROM:-0400
TZOFFSETTO:-0500
TZNAME:EST
DTSTART:20251102T060000
END:STANDARD
END:VTIMEZONE
BEGIN:VEVENT
DTSTART;VALUE=DATE:20231231
DTEND;VALUE=DATE:20240102
DTSTAMP:20260419T191827
CREATED:20220729T054926Z
LAST-MODIFIED:20220729T054926Z
UID:10000247-1704049200-1704135599@clarendoncounty.com
SUMMARY:New Year’s Day
DESCRIPTION:
URL:https://clarendoncounty.com/event/new-years-day/2024-01-01/
CATEGORIES:Federal Holidays
END:VEVENT
BEGIN:VEVENT
DTSTART;VALUE=DATE:20240114
DTEND;VALUE=DATE:20240116
DTSTAMP:20260419T191827
CREATED:20220729T055010Z
LAST-MODIFIED:20220729T055010Z
UID:10000249-1705258800-1705345199@clarendoncounty.com
SUMMARY:Martin Luther King\, Jr. Day
DESCRIPTION:
URL:https://clarendoncounty.com/event/martin-luther-king-jr-day/2024-01-15/
CATEGORIES:Federal Holidays
END:VEVENT
BEGIN:VEVENT
DTSTART;VALUE=DATE:20240218
DTEND;VALUE=DATE:20240220
DTSTAMP:20260419T191827
CREATED:20220729T055151Z
LAST-MODIFIED:20220729T055156Z
UID:10000251-1708282800-1708369199@clarendoncounty.com
SUMMARY:President’s Day (George Washington’s Birthday)
DESCRIPTION:
URL:https://clarendoncounty.com/event/presidents-day/2024-02-19/
CATEGORIES:Federal Holidays
END:VEVENT
BEGIN:VEVENT
DTSTART;VALUE=DATE:20240527
DTEND;VALUE=DATE:20240528
DTSTAMP:20260419T191827
CREATED:20220729T055301Z
LAST-MODIFIED:20230124T162633Z
UID:10000769-1716768000-1716854399@clarendoncounty.com
SUMMARY:Memorial Day
DESCRIPTION:
URL:https://clarendoncounty.com/event/memorial-day/2024-05-27/
CATEGORIES:Federal Holidays
END:VEVENT
BEGIN:VEVENT
DTSTART;VALUE=DATE:20240618
DTEND;VALUE=DATE:20240620
DTSTAMP:20260419T191827
CREATED:20220729T054043Z
LAST-MODIFIED:20250618T132301Z
UID:10000231-1718740800-1718827199@clarendoncounty.com
SUMMARY:Juneteenth
DESCRIPTION:
URL:https://clarendoncounty.com/event/juneteenth/2024-06-19/
CATEGORIES:Federal Holidays
END:VEVENT
BEGIN:VEVENT
DTSTART;VALUE=DATE:20240703
DTEND;VALUE=DATE:20240705
DTSTAMP:20260419T191827
CREATED:20220729T054008Z
LAST-MODIFIED:20230630T143908Z
UID:10000220-1720036800-1720123199@clarendoncounty.com
SUMMARY:Independence Day
DESCRIPTION:
URL:https://clarendoncounty.com/event/independence-day/2024-07-04/
CATEGORIES:Federal Holidays
END:VEVENT
BEGIN:VEVENT
DTSTART;VALUE=DATE:20240901
DTEND;VALUE=DATE:20240903
DTSTAMP:20260419T191827
CREATED:20220729T055402Z
LAST-MODIFIED:20220729T055402Z
UID:10000256-1725220800-1725307199@clarendoncounty.com
SUMMARY:Labor Day
DESCRIPTION:
URL:https://clarendoncounty.com/event/labor-day/2024-09-02/
CATEGORIES:Federal Holidays
END:VEVENT
BEGIN:VEVENT
DTSTART;VALUE=DATE:20241110
DTEND;VALUE=DATE:20241112
DTSTAMP:20260419T191827
CREATED:20220729T054217Z
LAST-MODIFIED:20220729T054512Z
UID:10000243-1731265200-1731351599@clarendoncounty.com
SUMMARY:Veterans Day
DESCRIPTION:
URL:https://clarendoncounty.com/event/veterans-day/2024-11-11/
CATEGORIES:Federal Holidays
END:VEVENT
BEGIN:VEVENT
DTSTART;VALUE=DATE:20250618
DTEND;VALUE=DATE:20250620
DTSTAMP:20260419T191827
CREATED:20220729T054043Z
LAST-MODIFIED:20250618T132301Z
UID:10000232-1750276800-1750363199@clarendoncounty.com
SUMMARY:Juneteenth
DESCRIPTION:
URL:https://clarendoncounty.com/event/juneteenth/2025-06-19/
CATEGORIES:Federal Holidays
END:VEVENT
BEGIN:VEVENT
DTSTART;VALUE=DATE:20250703
DTEND;VALUE=DATE:20250705
DTSTAMP:20260419T191827
CREATED:20220729T054008Z
LAST-MODIFIED:20230630T143908Z
UID:10000221-1751572800-1751659199@clarendoncounty.com
SUMMARY:Independence Day
DESCRIPTION:
URL:https://clarendoncounty.com/event/independence-day/2025-07-04/
CATEGORIES:Federal Holidays
END:VEVENT
END:VCALENDAR