BEGIN:VCALENDAR
VERSION:2.0
PRODID:-//Clarendon County Chamber of Commerce - ECPv6.2.0//NONSGML v1.0//EN
CALSCALE:GREGORIAN
METHOD:PUBLISH
X-WR-CALNAME:Clarendon County Chamber of Commerce
X-ORIGINAL-URL:https://clarendoncounty.com
X-WR-CALDESC:Events for Clarendon County Chamber of Commerce
REFRESH-INTERVAL;VALUE=DURATION:PT1H
X-Robots-Tag:noindex
X-PUBLISHED-TTL:PT1H
BEGIN:VTIMEZONE
TZID:America/New_York
BEGIN:DAYLIGHT
TZOFFSETFROM:-0500
TZOFFSETTO:-0400
TZNAME:EDT
DTSTART:20220313T070000
END:DAYLIGHT
BEGIN:STANDARD
TZOFFSETFROM:-0400
TZOFFSETTO:-0500
TZNAME:EST
DTSTART:20221106T060000
END:STANDARD
END:VTIMEZONE
BEGIN:VEVENT
DTSTART;TZID=America/New_York:20220728T071500
DTEND;TZID=America/New_York:20220728T081500
DTSTAMP:20260422T121346
CREATED:20220729T050523Z
LAST-MODIFIED:20230124T155012Z
UID:10000651-1658992500-1658996100@clarendoncounty.com
SUMMARY:Summerton Rotary - Meeting
DESCRIPTION:
URL:https://clarendoncounty.com/event/summerton-rotary-meeting/2022-07-28/
LOCATION:Mill Street Grill\, 201 S Mill St\, Manning\, SC\, 29102\, United States
CATEGORIES:Meeting
ATTACH;FMTTYPE=image/png:https://clarendoncounty.com/wp-content/uploads/2022/07/Rotary-Logo.png
END:VEVENT
BEGIN:VEVENT
DTSTART;TZID=America/New_York:20220803T120000
DTEND;TZID=America/New_York:20220803T140000
DTSTAMP:20260422T121346
CREATED:20220729T052248Z
LAST-MODIFIED:20230124T154839Z
UID:10000541-1659528000-1659535200@clarendoncounty.com
SUMMARY:Manning Rotary - Meeting
DESCRIPTION:
URL:https://clarendoncounty.com/event/manning-rotary-meeting/2022-08-03/
LOCATION:Porter Jacks Grill\, 505 S Mill St.\, Manning\, SC\, 29102\, United States
CATEGORIES:Meeting
ATTACH;FMTTYPE=image/png:https://clarendoncounty.com/wp-content/uploads/2022/07/Rotary-Logo.png
END:VEVENT
BEGIN:VEVENT
DTSTART;TZID=America/New_York:20220804T071500
DTEND;TZID=America/New_York:20220804T081500
DTSTAMP:20260422T121346
CREATED:20220729T050523Z
LAST-MODIFIED:20230124T155012Z
UID:10000652-1659597300-1659600900@clarendoncounty.com
SUMMARY:Summerton Rotary - Meeting
DESCRIPTION:
URL:https://clarendoncounty.com/event/summerton-rotary-meeting/2022-08-04/
LOCATION:Mill Street Grill\, 201 S Mill St\, Manning\, SC\, 29102\, United States
CATEGORIES:Meeting
ATTACH;FMTTYPE=image/png:https://clarendoncounty.com/wp-content/uploads/2022/07/Rotary-Logo.png
END:VEVENT
BEGIN:VEVENT
DTSTART;TZID=America/New_York:20220809T183000
DTEND;TZID=America/New_York:20220809T200000
DTSTAMP:20260422T121346
CREATED:20220729T060159Z
LAST-MODIFIED:20230124T155335Z
UID:10000454-1660069800-1660075200@clarendoncounty.com
SUMMARY:Lions Club
DESCRIPTION:
URL:https://clarendoncounty.com/event/lions-club/2022-08-09/
LOCATION:Porter Jacks Grill\, 505 S Mill St.\, Manning\, SC\, 29102\, United States
CATEGORIES:Meeting
ATTACH;FMTTYPE=image/png:https://clarendoncounty.com/wp-content/uploads/2022/07/Lions-Club-Logo.png
END:VEVENT
BEGIN:VEVENT
DTSTART;TZID=America/New_York:20220810T120000
DTEND;TZID=America/New_York:20220810T140000
DTSTAMP:20260422T121346
CREATED:20220729T052248Z
LAST-MODIFIED:20230124T154839Z
UID:10000542-1660132800-1660140000@clarendoncounty.com
SUMMARY:Manning Rotary - Meeting
DESCRIPTION:
URL:https://clarendoncounty.com/event/manning-rotary-meeting/2022-08-10/
LOCATION:Porter Jacks Grill\, 505 S Mill St.\, Manning\, SC\, 29102\, United States
CATEGORIES:Meeting
ATTACH;FMTTYPE=image/png:https://clarendoncounty.com/wp-content/uploads/2022/07/Rotary-Logo.png
END:VEVENT
BEGIN:VEVENT
DTSTART;TZID=America/New_York:20220811T071500
DTEND;TZID=America/New_York:20220811T081500
DTSTAMP:20260422T121346
CREATED:20220729T050523Z
LAST-MODIFIED:20230124T155012Z
UID:10000653-1660202100-1660205700@clarendoncounty.com
SUMMARY:Summerton Rotary - Meeting
DESCRIPTION:
URL:https://clarendoncounty.com/event/summerton-rotary-meeting/2022-08-11/
LOCATION:Mill Street Grill\, 201 S Mill St\, Manning\, SC\, 29102\, United States
CATEGORIES:Meeting
ATTACH;FMTTYPE=image/png:https://clarendoncounty.com/wp-content/uploads/2022/07/Rotary-Logo.png
END:VEVENT
BEGIN:VEVENT
DTSTART;TZID=America/New_York:20220816T090000
DTEND;TZID=America/New_York:20220816T100000
DTSTAMP:20260422T121346
CREATED:20220729T052546Z
LAST-MODIFIED:20230124T161740Z
UID:10000754-1660640400-1660644000@clarendoncounty.com
SUMMARY:Manning Heart & Soul - Meeting
DESCRIPTION:
URL:https://clarendoncounty.com/event/manning-heart-soul-meeting/2022-08-16/
LOCATION:Clarendon County Chamber of Commerce\, 19 N Brooks St\, Manning\, South Carolina\, 29102
CATEGORIES:Meeting
ATTACH;FMTTYPE=image/jpeg:https://clarendoncounty.com/wp-content/uploads/2022/07/Logo-Manning-Heart-Soul.jpg
END:VEVENT
BEGIN:VEVENT
DTSTART;TZID=America/New_York:20220817T120000
DTEND;TZID=America/New_York:20220817T140000
DTSTAMP:20260422T121346
CREATED:20220729T052248Z
LAST-MODIFIED:20230124T154839Z
UID:10000543-1660737600-1660744800@clarendoncounty.com
SUMMARY:Manning Rotary - Meeting
DESCRIPTION:
URL:https://clarendoncounty.com/event/manning-rotary-meeting/2022-08-17/
LOCATION:Porter Jacks Grill\, 505 S Mill St.\, Manning\, SC\, 29102\, United States
CATEGORIES:Meeting
ATTACH;FMTTYPE=image/png:https://clarendoncounty.com/wp-content/uploads/2022/07/Rotary-Logo.png
END:VEVENT
BEGIN:VEVENT
DTSTART;TZID=America/New_York:20220818T071500
DTEND;TZID=America/New_York:20220818T081500
DTSTAMP:20260422T121346
CREATED:20220729T050523Z
LAST-MODIFIED:20230124T155012Z
UID:10000654-1660806900-1660810500@clarendoncounty.com
SUMMARY:Summerton Rotary - Meeting
DESCRIPTION:
URL:https://clarendoncounty.com/event/summerton-rotary-meeting/2022-08-18/
LOCATION:Mill Street Grill\, 201 S Mill St\, Manning\, SC\, 29102\, United States
CATEGORIES:Meeting
ATTACH;FMTTYPE=image/png:https://clarendoncounty.com/wp-content/uploads/2022/07/Rotary-Logo.png
END:VEVENT
BEGIN:VEVENT
DTSTART;TZID=America/New_York:20220818T180000
DTEND;TZID=America/New_York:20220818T190000
DTSTAMP:20260422T121346
CREATED:20220729T052435Z
LAST-MODIFIED:20230124T161553Z
UID:10000728-1660845600-1660849200@clarendoncounty.com
SUMMARY:Junior Ambassadors - Meeting
DESCRIPTION:
URL:https://clarendoncounty.com/event/junior-ambassadors-meeting/2022-08-18/
LOCATION:Clarendon County Chamber of Commerce\, 19 N Brooks St\, Manning\, South Carolina\, 29102
CATEGORIES:Meeting
ATTACH;FMTTYPE=image/jpeg:https://clarendoncounty.com/wp-content/uploads/2022/07/JA-Logo-1.jpg
END:VEVENT
BEGIN:VEVENT
DTSTART;TZID=America/New_York:20220824T120000
DTEND;TZID=America/New_York:20220824T140000
DTSTAMP:20260422T121346
CREATED:20220729T052248Z
LAST-MODIFIED:20230124T154839Z
UID:10000544-1661342400-1661349600@clarendoncounty.com
SUMMARY:Manning Rotary - Meeting
DESCRIPTION:
URL:https://clarendoncounty.com/event/manning-rotary-meeting/2022-08-24/
LOCATION:Porter Jacks Grill\, 505 S Mill St.\, Manning\, SC\, 29102\, United States
CATEGORIES:Meeting
ATTACH;FMTTYPE=image/png:https://clarendoncounty.com/wp-content/uploads/2022/07/Rotary-Logo.png
END:VEVENT
BEGIN:VEVENT
DTSTART;TZID=America/New_York:20220825T071500
DTEND;TZID=America/New_York:20220825T081500
DTSTAMP:20260422T121346
CREATED:20220729T050523Z
LAST-MODIFIED:20230124T155012Z
UID:10000655-1661411700-1661415300@clarendoncounty.com
SUMMARY:Summerton Rotary - Meeting
DESCRIPTION:
URL:https://clarendoncounty.com/event/summerton-rotary-meeting/2022-08-25/
LOCATION:Mill Street Grill\, 201 S Mill St\, Manning\, SC\, 29102\, United States
CATEGORIES:Meeting
ATTACH;FMTTYPE=image/png:https://clarendoncounty.com/wp-content/uploads/2022/07/Rotary-Logo.png
END:VEVENT
BEGIN:VEVENT
DTSTART;TZID=America/New_York:20220831T120000
DTEND;TZID=America/New_York:20220831T140000
DTSTAMP:20260422T121346
CREATED:20220729T052248Z
LAST-MODIFIED:20230124T154839Z
UID:10000545-1661947200-1661954400@clarendoncounty.com
SUMMARY:Manning Rotary - Meeting
DESCRIPTION:
URL:https://clarendoncounty.com/event/manning-rotary-meeting/2022-08-31/
LOCATION:Porter Jacks Grill\, 505 S Mill St.\, Manning\, SC\, 29102\, United States
CATEGORIES:Meeting
ATTACH;FMTTYPE=image/png:https://clarendoncounty.com/wp-content/uploads/2022/07/Rotary-Logo.png
END:VEVENT
BEGIN:VEVENT
DTSTART;TZID=America/New_York:20220901T071500
DTEND;TZID=America/New_York:20220901T081500
DTSTAMP:20260422T121346
CREATED:20220729T050523Z
LAST-MODIFIED:20230124T155012Z
UID:10000656-1662016500-1662020100@clarendoncounty.com
SUMMARY:Summerton Rotary - Meeting
DESCRIPTION:
URL:https://clarendoncounty.com/event/summerton-rotary-meeting/2022-09-01/
LOCATION:Mill Street Grill\, 201 S Mill St\, Manning\, SC\, 29102\, United States
CATEGORIES:Meeting
ATTACH;FMTTYPE=image/png:https://clarendoncounty.com/wp-content/uploads/2022/07/Rotary-Logo.png
END:VEVENT
BEGIN:VEVENT
DTSTART;TZID=America/New_York:20220907T120000
DTEND;TZID=America/New_York:20220907T140000
DTSTAMP:20260422T121346
CREATED:20220729T052248Z
LAST-MODIFIED:20230124T154839Z
UID:10000546-1662552000-1662559200@clarendoncounty.com
SUMMARY:Manning Rotary - Meeting
DESCRIPTION:
URL:https://clarendoncounty.com/event/manning-rotary-meeting/2022-09-07/
LOCATION:Porter Jacks Grill\, 505 S Mill St.\, Manning\, SC\, 29102\, United States
CATEGORIES:Meeting
ATTACH;FMTTYPE=image/png:https://clarendoncounty.com/wp-content/uploads/2022/07/Rotary-Logo.png
END:VEVENT
BEGIN:VEVENT
DTSTART;TZID=America/New_York:20220908T071500
DTEND;TZID=America/New_York:20220908T081500
DTSTAMP:20260422T121346
CREATED:20220729T050523Z
LAST-MODIFIED:20230124T155012Z
UID:10000657-1662621300-1662624900@clarendoncounty.com
SUMMARY:Summerton Rotary - Meeting
DESCRIPTION:
URL:https://clarendoncounty.com/event/summerton-rotary-meeting/2022-09-08/
LOCATION:Mill Street Grill\, 201 S Mill St\, Manning\, SC\, 29102\, United States
CATEGORIES:Meeting
ATTACH;FMTTYPE=image/png:https://clarendoncounty.com/wp-content/uploads/2022/07/Rotary-Logo.png
END:VEVENT
BEGIN:VEVENT
DTSTART;TZID=America/New_York:20220913T183000
DTEND;TZID=America/New_York:20220913T200000
DTSTAMP:20260422T121346
CREATED:20220729T060159Z
LAST-MODIFIED:20230124T155335Z
UID:10000455-1663093800-1663099200@clarendoncounty.com
SUMMARY:Lions Club
DESCRIPTION:
URL:https://clarendoncounty.com/event/lions-club/2022-09-13/
LOCATION:Porter Jacks Grill\, 505 S Mill St.\, Manning\, SC\, 29102\, United States
CATEGORIES:Meeting
ATTACH;FMTTYPE=image/png:https://clarendoncounty.com/wp-content/uploads/2022/07/Lions-Club-Logo.png
END:VEVENT
BEGIN:VEVENT
DTSTART;TZID=America/New_York:20220914T120000
DTEND;TZID=America/New_York:20220914T140000
DTSTAMP:20260422T121346
CREATED:20220729T052248Z
LAST-MODIFIED:20230124T154839Z
UID:10000547-1663156800-1663164000@clarendoncounty.com
SUMMARY:Manning Rotary - Meeting
DESCRIPTION:
URL:https://clarendoncounty.com/event/manning-rotary-meeting/2022-09-14/
LOCATION:Porter Jacks Grill\, 505 S Mill St.\, Manning\, SC\, 29102\, United States
CATEGORIES:Meeting
ATTACH;FMTTYPE=image/png:https://clarendoncounty.com/wp-content/uploads/2022/07/Rotary-Logo.png
END:VEVENT
BEGIN:VEVENT
DTSTART;TZID=America/New_York:20220915T071500
DTEND;TZID=America/New_York:20220915T081500
DTSTAMP:20260422T121346
CREATED:20220729T050523Z
LAST-MODIFIED:20230124T155012Z
UID:10000658-1663226100-1663229700@clarendoncounty.com
SUMMARY:Summerton Rotary - Meeting
DESCRIPTION:
URL:https://clarendoncounty.com/event/summerton-rotary-meeting/2022-09-15/
LOCATION:Mill Street Grill\, 201 S Mill St\, Manning\, SC\, 29102\, United States
CATEGORIES:Meeting
ATTACH;FMTTYPE=image/png:https://clarendoncounty.com/wp-content/uploads/2022/07/Rotary-Logo.png
END:VEVENT
BEGIN:VEVENT
DTSTART;TZID=America/New_York:20220915T180000
DTEND;TZID=America/New_York:20220915T190000
DTSTAMP:20260422T121346
CREATED:20220729T052435Z
LAST-MODIFIED:20230124T161553Z
UID:10000729-1663264800-1663268400@clarendoncounty.com
SUMMARY:Junior Ambassadors - Meeting
DESCRIPTION:
URL:https://clarendoncounty.com/event/junior-ambassadors-meeting/2022-09-15/
LOCATION:Clarendon County Chamber of Commerce\, 19 N Brooks St\, Manning\, South Carolina\, 29102
CATEGORIES:Meeting
ATTACH;FMTTYPE=image/jpeg:https://clarendoncounty.com/wp-content/uploads/2022/07/JA-Logo-1.jpg
END:VEVENT
BEGIN:VEVENT
DTSTART;TZID=America/New_York:20220920T090000
DTEND;TZID=America/New_York:20220920T100000
DTSTAMP:20260422T121346
CREATED:20220729T052546Z
LAST-MODIFIED:20230124T161740Z
UID:10000755-1663664400-1663668000@clarendoncounty.com
SUMMARY:Manning Heart & Soul - Meeting
DESCRIPTION:
URL:https://clarendoncounty.com/event/manning-heart-soul-meeting/2022-09-20/
LOCATION:Clarendon County Chamber of Commerce\, 19 N Brooks St\, Manning\, South Carolina\, 29102
CATEGORIES:Meeting
ATTACH;FMTTYPE=image/jpeg:https://clarendoncounty.com/wp-content/uploads/2022/07/Logo-Manning-Heart-Soul.jpg
END:VEVENT
BEGIN:VEVENT
DTSTART;TZID=America/New_York:20220921T120000
DTEND;TZID=America/New_York:20220921T140000
DTSTAMP:20260422T121346
CREATED:20220729T052248Z
LAST-MODIFIED:20230124T154839Z
UID:10000548-1663761600-1663768800@clarendoncounty.com
SUMMARY:Manning Rotary - Meeting
DESCRIPTION:
URL:https://clarendoncounty.com/event/manning-rotary-meeting/2022-09-21/
LOCATION:Porter Jacks Grill\, 505 S Mill St.\, Manning\, SC\, 29102\, United States
CATEGORIES:Meeting
ATTACH;FMTTYPE=image/png:https://clarendoncounty.com/wp-content/uploads/2022/07/Rotary-Logo.png
END:VEVENT
BEGIN:VEVENT
DTSTART;TZID=America/New_York:20220922T071500
DTEND;TZID=America/New_York:20220922T081500
DTSTAMP:20260422T121346
CREATED:20220729T050523Z
LAST-MODIFIED:20230124T155012Z
UID:10000659-1663830900-1663834500@clarendoncounty.com
SUMMARY:Summerton Rotary - Meeting
DESCRIPTION:
URL:https://clarendoncounty.com/event/summerton-rotary-meeting/2022-09-22/
LOCATION:Mill Street Grill\, 201 S Mill St\, Manning\, SC\, 29102\, United States
CATEGORIES:Meeting
ATTACH;FMTTYPE=image/png:https://clarendoncounty.com/wp-content/uploads/2022/07/Rotary-Logo.png
END:VEVENT
BEGIN:VEVENT
DTSTART;TZID=America/New_York:20220928T120000
DTEND;TZID=America/New_York:20220928T140000
DTSTAMP:20260422T121346
CREATED:20220729T052248Z
LAST-MODIFIED:20230124T154839Z
UID:10000549-1664366400-1664373600@clarendoncounty.com
SUMMARY:Manning Rotary - Meeting
DESCRIPTION:
URL:https://clarendoncounty.com/event/manning-rotary-meeting/2022-09-28/
LOCATION:Porter Jacks Grill\, 505 S Mill St.\, Manning\, SC\, 29102\, United States
CATEGORIES:Meeting
ATTACH;FMTTYPE=image/png:https://clarendoncounty.com/wp-content/uploads/2022/07/Rotary-Logo.png
END:VEVENT
BEGIN:VEVENT
DTSTART;TZID=America/New_York:20220929T071500
DTEND;TZID=America/New_York:20220929T081500
DTSTAMP:20260422T121346
CREATED:20220729T050523Z
LAST-MODIFIED:20230124T155012Z
UID:10000660-1664435700-1664439300@clarendoncounty.com
SUMMARY:Summerton Rotary - Meeting
DESCRIPTION:
URL:https://clarendoncounty.com/event/summerton-rotary-meeting/2022-09-29/
LOCATION:Mill Street Grill\, 201 S Mill St\, Manning\, SC\, 29102\, United States
CATEGORIES:Meeting
ATTACH;FMTTYPE=image/png:https://clarendoncounty.com/wp-content/uploads/2022/07/Rotary-Logo.png
END:VEVENT
BEGIN:VEVENT
DTSTART;TZID=America/New_York:20221005T120000
DTEND;TZID=America/New_York:20221005T140000
DTSTAMP:20260422T121346
CREATED:20220729T052248Z
LAST-MODIFIED:20230124T154839Z
UID:10000550-1664971200-1664978400@clarendoncounty.com
SUMMARY:Manning Rotary - Meeting
DESCRIPTION:
URL:https://clarendoncounty.com/event/manning-rotary-meeting/2022-10-05/
LOCATION:Porter Jacks Grill\, 505 S Mill St.\, Manning\, SC\, 29102\, United States
CATEGORIES:Meeting
ATTACH;FMTTYPE=image/png:https://clarendoncounty.com/wp-content/uploads/2022/07/Rotary-Logo.png
END:VEVENT
BEGIN:VEVENT
DTSTART;TZID=America/New_York:20221006T071500
DTEND;TZID=America/New_York:20221006T081500
DTSTAMP:20260422T121346
CREATED:20220729T050523Z
LAST-MODIFIED:20230124T155012Z
UID:10000661-1665040500-1665044100@clarendoncounty.com
SUMMARY:Summerton Rotary - Meeting
DESCRIPTION:
URL:https://clarendoncounty.com/event/summerton-rotary-meeting/2022-10-06/
LOCATION:Mill Street Grill\, 201 S Mill St\, Manning\, SC\, 29102\, United States
CATEGORIES:Meeting
ATTACH;FMTTYPE=image/png:https://clarendoncounty.com/wp-content/uploads/2022/07/Rotary-Logo.png
END:VEVENT
BEGIN:VEVENT
DTSTART;TZID=America/New_York:20221011T183000
DTEND;TZID=America/New_York:20221011T200000
DTSTAMP:20260422T121346
CREATED:20220729T060159Z
LAST-MODIFIED:20230124T155335Z
UID:10000456-1665513000-1665518400@clarendoncounty.com
SUMMARY:Lions Club
DESCRIPTION:
URL:https://clarendoncounty.com/event/lions-club/2022-10-11/
LOCATION:Porter Jacks Grill\, 505 S Mill St.\, Manning\, SC\, 29102\, United States
CATEGORIES:Meeting
ATTACH;FMTTYPE=image/png:https://clarendoncounty.com/wp-content/uploads/2022/07/Lions-Club-Logo.png
END:VEVENT
BEGIN:VEVENT
DTSTART;TZID=America/New_York:20221012T120000
DTEND;TZID=America/New_York:20221012T140000
DTSTAMP:20260422T121346
CREATED:20220729T052248Z
LAST-MODIFIED:20230124T154839Z
UID:10000551-1665576000-1665583200@clarendoncounty.com
SUMMARY:Manning Rotary - Meeting
DESCRIPTION:
URL:https://clarendoncounty.com/event/manning-rotary-meeting/2022-10-12/
LOCATION:Porter Jacks Grill\, 505 S Mill St.\, Manning\, SC\, 29102\, United States
CATEGORIES:Meeting
ATTACH;FMTTYPE=image/png:https://clarendoncounty.com/wp-content/uploads/2022/07/Rotary-Logo.png
END:VEVENT
BEGIN:VEVENT
DTSTART;TZID=America/New_York:20221013T071500
DTEND;TZID=America/New_York:20221013T081500
DTSTAMP:20260422T121346
CREATED:20220729T050523Z
LAST-MODIFIED:20230124T155012Z
UID:10000662-1665645300-1665648900@clarendoncounty.com
SUMMARY:Summerton Rotary - Meeting
DESCRIPTION:
URL:https://clarendoncounty.com/event/summerton-rotary-meeting/2022-10-13/
LOCATION:Mill Street Grill\, 201 S Mill St\, Manning\, SC\, 29102\, United States
CATEGORIES:Meeting
ATTACH;FMTTYPE=image/png:https://clarendoncounty.com/wp-content/uploads/2022/07/Rotary-Logo.png
END:VEVENT
END:VCALENDAR