BEGIN:VCALENDAR
VERSION:2.0
PRODID:-//Clarendon County Chamber of Commerce - ECPv6.2.0//NONSGML v1.0//EN
CALSCALE:GREGORIAN
METHOD:PUBLISH
X-ORIGINAL-URL:https://clarendoncounty.com
X-WR-CALDESC:Events for Clarendon County Chamber of Commerce
REFRESH-INTERVAL;VALUE=DURATION:PT1H
X-Robots-Tag:noindex
X-PUBLISHED-TTL:PT1H
BEGIN:VTIMEZONE
TZID:America/New_York
BEGIN:DAYLIGHT
TZOFFSETFROM:-0500
TZOFFSETTO:-0400
TZNAME:EDT
DTSTART:20230312T070000
END:DAYLIGHT
BEGIN:STANDARD
TZOFFSETFROM:-0400
TZOFFSETTO:-0500
TZNAME:EST
DTSTART:20231105T060000
END:STANDARD
BEGIN:DAYLIGHT
TZOFFSETFROM:-0500
TZOFFSETTO:-0400
TZNAME:EDT
DTSTART:20240310T070000
END:DAYLIGHT
BEGIN:STANDARD
TZOFFSETFROM:-0400
TZOFFSETTO:-0500
TZNAME:EST
DTSTART:20241103T060000
END:STANDARD
BEGIN:DAYLIGHT
TZOFFSETFROM:-0500
TZOFFSETTO:-0400
TZNAME:EDT
DTSTART:20250309T070000
END:DAYLIGHT
BEGIN:STANDARD
TZOFFSETFROM:-0400
TZOFFSETTO:-0500
TZNAME:EST
DTSTART:20251102T060000
END:STANDARD
END:VTIMEZONE
BEGIN:VEVENT
DTSTART;TZID=America/New_York:20230719T120000
DTEND;TZID=America/New_York:20230719T140000
DTSTAMP:20260423T050902
CREATED:20220729T052248Z
LAST-MODIFIED:20230124T154839Z
UID:10000591-1689768000-1689775200@clarendoncounty.com
SUMMARY:Manning Rotary - Meeting
DESCRIPTION:
URL:https://clarendoncounty.com/event/manning-rotary-meeting/2023-07-19/
LOCATION:Porter Jacks Grill\, 505 S Mill St.\, Manning\, SC\, 29102\, United States
CATEGORIES:Meeting
ATTACH;FMTTYPE=image/png:https://clarendoncounty.com/wp-content/uploads/2022/07/Rotary-Logo.png
END:VEVENT
BEGIN:VEVENT
DTSTART;TZID=America/New_York:20230720T071500
DTEND;TZID=America/New_York:20230720T081500
DTSTAMP:20260423T050902
CREATED:20220729T050523Z
LAST-MODIFIED:20230124T155012Z
UID:10000702-1689837300-1689840900@clarendoncounty.com
SUMMARY:Summerton Rotary - Meeting
DESCRIPTION:
URL:https://clarendoncounty.com/event/summerton-rotary-meeting/2023-07-20/
LOCATION:Mill Street Grill\, 201 S Mill St\, Manning\, SC\, 29102\, United States
CATEGORIES:Meeting
ATTACH;FMTTYPE=image/png:https://clarendoncounty.com/wp-content/uploads/2022/07/Rotary-Logo.png
END:VEVENT
BEGIN:VEVENT
DTSTART;TZID=America/New_York:20230726T120000
DTEND;TZID=America/New_York:20230726T140000
DTSTAMP:20260423T050902
CREATED:20220729T052248Z
LAST-MODIFIED:20230124T154839Z
UID:10000592-1690372800-1690380000@clarendoncounty.com
SUMMARY:Manning Rotary - Meeting
DESCRIPTION:
URL:https://clarendoncounty.com/event/manning-rotary-meeting/2023-07-26/
LOCATION:Porter Jacks Grill\, 505 S Mill St.\, Manning\, SC\, 29102\, United States
CATEGORIES:Meeting
ATTACH;FMTTYPE=image/png:https://clarendoncounty.com/wp-content/uploads/2022/07/Rotary-Logo.png
END:VEVENT
BEGIN:VEVENT
DTSTART;TZID=America/New_York:20230727T071500
DTEND;TZID=America/New_York:20230727T081500
DTSTAMP:20260423T050902
CREATED:20220729T050523Z
LAST-MODIFIED:20230124T155012Z
UID:10000703-1690442100-1690445700@clarendoncounty.com
SUMMARY:Summerton Rotary - Meeting
DESCRIPTION:
URL:https://clarendoncounty.com/event/summerton-rotary-meeting/2023-07-27/
LOCATION:Mill Street Grill\, 201 S Mill St\, Manning\, SC\, 29102\, United States
CATEGORIES:Meeting
ATTACH;FMTTYPE=image/png:https://clarendoncounty.com/wp-content/uploads/2022/07/Rotary-Logo.png
END:VEVENT
BEGIN:VEVENT
DTSTART;TZID=America/New_York:20230802T120000
DTEND;TZID=America/New_York:20230802T140000
DTSTAMP:20260423T050902
CREATED:20220729T052248Z
LAST-MODIFIED:20230124T154839Z
UID:10000593-1690977600-1690984800@clarendoncounty.com
SUMMARY:Manning Rotary - Meeting
DESCRIPTION:
URL:https://clarendoncounty.com/event/manning-rotary-meeting/2023-08-02/
LOCATION:Porter Jacks Grill\, 505 S Mill St.\, Manning\, SC\, 29102\, United States
CATEGORIES:Meeting
ATTACH;FMTTYPE=image/png:https://clarendoncounty.com/wp-content/uploads/2022/07/Rotary-Logo.png
END:VEVENT
BEGIN:VEVENT
DTSTART;TZID=America/New_York:20230808T183000
DTEND;TZID=America/New_York:20230808T200000
DTSTAMP:20260423T050902
CREATED:20220729T060159Z
LAST-MODIFIED:20230124T155335Z
UID:10000466-1691519400-1691524800@clarendoncounty.com
SUMMARY:Lions Club
DESCRIPTION:
URL:https://clarendoncounty.com/event/lions-club/2023-08-08/
LOCATION:Porter Jacks Grill\, 505 S Mill St.\, Manning\, SC\, 29102\, United States
CATEGORIES:Meeting
ATTACH;FMTTYPE=image/png:https://clarendoncounty.com/wp-content/uploads/2022/07/Lions-Club-Logo.png
END:VEVENT
BEGIN:VEVENT
DTSTART;TZID=America/New_York:20230809T120000
DTEND;TZID=America/New_York:20230809T140000
DTSTAMP:20260423T050902
CREATED:20220729T052248Z
LAST-MODIFIED:20230124T154839Z
UID:10000594-1691582400-1691589600@clarendoncounty.com
SUMMARY:Manning Rotary - Meeting
DESCRIPTION:
URL:https://clarendoncounty.com/event/manning-rotary-meeting/2023-08-09/
LOCATION:Porter Jacks Grill\, 505 S Mill St.\, Manning\, SC\, 29102\, United States
CATEGORIES:Meeting
ATTACH;FMTTYPE=image/png:https://clarendoncounty.com/wp-content/uploads/2022/07/Rotary-Logo.png
END:VEVENT
BEGIN:VEVENT
DTSTART;TZID=America/New_York:20230815T090000
DTEND;TZID=America/New_York:20230815T100000
DTSTAMP:20260423T050902
CREATED:20220729T052546Z
LAST-MODIFIED:20230124T161740Z
UID:10000766-1692090000-1692093600@clarendoncounty.com
SUMMARY:Manning Heart & Soul - Meeting
DESCRIPTION:
URL:https://clarendoncounty.com/event/manning-heart-soul-meeting/2023-08-15/
LOCATION:Clarendon County Chamber of Commerce\, 19 N Brooks St\, Manning\, South Carolina\, 29102
CATEGORIES:Meeting
ATTACH;FMTTYPE=image/jpeg:https://clarendoncounty.com/wp-content/uploads/2022/07/Logo-Manning-Heart-Soul.jpg
END:VEVENT
BEGIN:VEVENT
DTSTART;TZID=America/New_York:20230816T120000
DTEND;TZID=America/New_York:20230816T140000
DTSTAMP:20260423T050902
CREATED:20220729T052248Z
LAST-MODIFIED:20230124T154839Z
UID:10000595-1692187200-1692194400@clarendoncounty.com
SUMMARY:Manning Rotary - Meeting
DESCRIPTION:
URL:https://clarendoncounty.com/event/manning-rotary-meeting/2023-08-16/
LOCATION:Porter Jacks Grill\, 505 S Mill St.\, Manning\, SC\, 29102\, United States
CATEGORIES:Meeting
ATTACH;FMTTYPE=image/png:https://clarendoncounty.com/wp-content/uploads/2022/07/Rotary-Logo.png
END:VEVENT
BEGIN:VEVENT
DTSTART;TZID=America/New_York:20230823T120000
DTEND;TZID=America/New_York:20230823T140000
DTSTAMP:20260423T050902
CREATED:20220729T052248Z
LAST-MODIFIED:20230124T154839Z
UID:10000596-1692792000-1692799200@clarendoncounty.com
SUMMARY:Manning Rotary - Meeting
DESCRIPTION:
URL:https://clarendoncounty.com/event/manning-rotary-meeting/2023-08-23/
LOCATION:Porter Jacks Grill\, 505 S Mill St.\, Manning\, SC\, 29102\, United States
CATEGORIES:Meeting
ATTACH;FMTTYPE=image/png:https://clarendoncounty.com/wp-content/uploads/2022/07/Rotary-Logo.png
END:VEVENT
BEGIN:VEVENT
DTSTART;TZID=America/New_York:20230912T183000
DTEND;TZID=America/New_York:20230912T200000
DTSTAMP:20260423T050902
CREATED:20220729T060159Z
LAST-MODIFIED:20230124T155335Z
UID:10000467-1694543400-1694548800@clarendoncounty.com
SUMMARY:Lions Club
DESCRIPTION:
URL:https://clarendoncounty.com/event/lions-club/2023-09-12/
LOCATION:Porter Jacks Grill\, 505 S Mill St.\, Manning\, SC\, 29102\, United States
CATEGORIES:Meeting
ATTACH;FMTTYPE=image/png:https://clarendoncounty.com/wp-content/uploads/2022/07/Lions-Club-Logo.png
END:VEVENT
BEGIN:VEVENT
DTSTART;TZID=America/New_York:20231010T183000
DTEND;TZID=America/New_York:20231010T200000
DTSTAMP:20260423T050902
CREATED:20220729T060159Z
LAST-MODIFIED:20230124T155335Z
UID:10000468-1696962600-1696968000@clarendoncounty.com
SUMMARY:Lions Club
DESCRIPTION:
URL:https://clarendoncounty.com/event/lions-club/2023-10-10/
LOCATION:Porter Jacks Grill\, 505 S Mill St.\, Manning\, SC\, 29102\, United States
CATEGORIES:Meeting
ATTACH;FMTTYPE=image/png:https://clarendoncounty.com/wp-content/uploads/2022/07/Lions-Club-Logo.png
END:VEVENT
BEGIN:VEVENT
DTSTART;TZID=America/New_York:20231114T183000
DTEND;TZID=America/New_York:20231114T200000
DTSTAMP:20260423T050902
CREATED:20220729T060159Z
LAST-MODIFIED:20230124T155335Z
UID:10000469-1699986600-1699992000@clarendoncounty.com
SUMMARY:Lions Club
DESCRIPTION:
URL:https://clarendoncounty.com/event/lions-club/2023-11-14/
LOCATION:Porter Jacks Grill\, 505 S Mill St.\, Manning\, SC\, 29102\, United States
CATEGORIES:Meeting
ATTACH;FMTTYPE=image/png:https://clarendoncounty.com/wp-content/uploads/2022/07/Lions-Club-Logo.png
END:VEVENT
BEGIN:VEVENT
DTSTART;TZID=America/New_York:20231212T183000
DTEND;TZID=America/New_York:20231212T200000
DTSTAMP:20260423T050902
CREATED:20220729T060159Z
LAST-MODIFIED:20230124T155335Z
UID:10000470-1702405800-1702411200@clarendoncounty.com
SUMMARY:Lions Club
DESCRIPTION:
URL:https://clarendoncounty.com/event/lions-club/2023-12-12/
LOCATION:Porter Jacks Grill\, 505 S Mill St.\, Manning\, SC\, 29102\, United States
CATEGORIES:Meeting
ATTACH;FMTTYPE=image/png:https://clarendoncounty.com/wp-content/uploads/2022/07/Lions-Club-Logo.png
END:VEVENT
BEGIN:VEVENT
DTSTART;TZID=America/New_York:20240103T120000
DTEND;TZID=America/New_York:20240103T130000
DTSTAMP:20260423T050902
CREATED:20240111T165805Z
LAST-MODIFIED:20240111T165805Z
UID:10000597-1704283200-1704286800@clarendoncounty.com
SUMMARY:Rotary International - Manning SC
DESCRIPTION:
URL:https://clarendoncounty.com/event/manning-rotary-meeting-2/
LOCATION:Porter Jacks Grill\, 505 S Mill St.\, Manning\, SC\, 29102\, United States
CATEGORIES:Meeting
ATTACH;FMTTYPE=image/png:https://clarendoncounty.com/wp-content/uploads/2022/07/Rotary-Logo.png
END:VEVENT
BEGIN:VEVENT
DTSTART;TZID=America/New_York:20240109T183000
DTEND;TZID=America/New_York:20240109T200000
DTSTAMP:20260423T050902
CREATED:20220729T060159Z
LAST-MODIFIED:20230124T155335Z
UID:10000471-1704825000-1704830400@clarendoncounty.com
SUMMARY:Lions Club
DESCRIPTION:
URL:https://clarendoncounty.com/event/lions-club/2024-01-09/
LOCATION:Porter Jacks Grill\, 505 S Mill St.\, Manning\, SC\, 29102\, United States
CATEGORIES:Meeting
ATTACH;FMTTYPE=image/png:https://clarendoncounty.com/wp-content/uploads/2022/07/Lions-Club-Logo.png
END:VEVENT
BEGIN:VEVENT
DTSTART;TZID=America/New_York:20240110T113000
DTEND;TZID=America/New_York:20240110T133000
DTSTAMP:20260423T050902
CREATED:20230821T142308Z
LAST-MODIFIED:20231222T145115Z
UID:10001035-1704886200-1704893400@clarendoncounty.com
SUMMARY:Leadership Training - Palmetto Lead
DESCRIPTION:Palmetto Lead will meet on October 11\, 2023. We will gather and dive into exciting new content provided by Dr. Clay Smith\, Head Pastor of Alice Drive Baptist Church. Palmetto Lead will meet this year on the following dates: October 11\, 2023; January 10\, March 13\, and May 8\, 2024.
URL:https://clarendoncounty.com/event/palmetto-lead-2/
LOCATION:SC
CATEGORIES:Meeting
ATTACH;FMTTYPE=image/jpeg:https://clarendoncounty.com/wp-content/uploads/2023/08/Palmetto-Lead-23-24-Schedule.jpg
END:VEVENT
BEGIN:VEVENT
DTSTART;TZID=America/New_York:20240213T183000
DTEND;TZID=America/New_York:20240213T200000
DTSTAMP:20260423T050902
CREATED:20220729T060159Z
LAST-MODIFIED:20230124T155335Z
UID:10000472-1707849000-1707854400@clarendoncounty.com
SUMMARY:Lions Club
DESCRIPTION:
URL:https://clarendoncounty.com/event/lions-club/2024-02-13/
LOCATION:Porter Jacks Grill\, 505 S Mill St.\, Manning\, SC\, 29102\, United States
CATEGORIES:Meeting
ATTACH;FMTTYPE=image/png:https://clarendoncounty.com/wp-content/uploads/2022/07/Lions-Club-Logo.png
END:VEVENT
BEGIN:VEVENT
DTSTART;TZID=America/New_York:20240312T183000
DTEND;TZID=America/New_York:20240312T200000
DTSTAMP:20260423T050902
CREATED:20220729T060159Z
LAST-MODIFIED:20230124T155335Z
UID:10000473-1710268200-1710273600@clarendoncounty.com
SUMMARY:Lions Club
DESCRIPTION:
URL:https://clarendoncounty.com/event/lions-club/2024-03-12/
LOCATION:Porter Jacks Grill\, 505 S Mill St.\, Manning\, SC\, 29102\, United States
CATEGORIES:Meeting
ATTACH;FMTTYPE=image/png:https://clarendoncounty.com/wp-content/uploads/2022/07/Lions-Club-Logo.png
END:VEVENT
BEGIN:VEVENT
DTSTART;TZID=America/New_York:20240409T183000
DTEND;TZID=America/New_York:20240409T200000
DTSTAMP:20260423T050902
CREATED:20220729T060159Z
LAST-MODIFIED:20230124T155335Z
UID:10000474-1712687400-1712692800@clarendoncounty.com
SUMMARY:Lions Club
DESCRIPTION:
URL:https://clarendoncounty.com/event/lions-club/2024-04-09/
LOCATION:Porter Jacks Grill\, 505 S Mill St.\, Manning\, SC\, 29102\, United States
CATEGORIES:Meeting
ATTACH;FMTTYPE=image/png:https://clarendoncounty.com/wp-content/uploads/2022/07/Lions-Club-Logo.png
END:VEVENT
BEGIN:VEVENT
DTSTART;TZID=America/New_York:20240514T183000
DTEND;TZID=America/New_York:20240514T200000
DTSTAMP:20260423T050902
CREATED:20220729T060159Z
LAST-MODIFIED:20230124T155335Z
UID:10000475-1715711400-1715716800@clarendoncounty.com
SUMMARY:Lions Club
DESCRIPTION:
URL:https://clarendoncounty.com/event/lions-club/2024-05-14/
LOCATION:Porter Jacks Grill\, 505 S Mill St.\, Manning\, SC\, 29102\, United States
CATEGORIES:Meeting
ATTACH;FMTTYPE=image/png:https://clarendoncounty.com/wp-content/uploads/2022/07/Lions-Club-Logo.png
END:VEVENT
BEGIN:VEVENT
DTSTART;TZID=America/New_York:20240611T183000
DTEND;TZID=America/New_York:20240611T200000
DTSTAMP:20260423T050902
CREATED:20220729T060159Z
LAST-MODIFIED:20230124T155335Z
UID:10000476-1718130600-1718136000@clarendoncounty.com
SUMMARY:Lions Club
DESCRIPTION:
URL:https://clarendoncounty.com/event/lions-club/2024-06-11/
LOCATION:Porter Jacks Grill\, 505 S Mill St.\, Manning\, SC\, 29102\, United States
CATEGORIES:Meeting
ATTACH;FMTTYPE=image/png:https://clarendoncounty.com/wp-content/uploads/2022/07/Lions-Club-Logo.png
END:VEVENT
BEGIN:VEVENT
DTSTART;TZID=America/New_York:20240709T183000
DTEND;TZID=America/New_York:20240709T200000
DTSTAMP:20260423T050902
CREATED:20220729T060159Z
LAST-MODIFIED:20230124T155335Z
UID:10000477-1720549800-1720555200@clarendoncounty.com
SUMMARY:Lions Club
DESCRIPTION:
URL:https://clarendoncounty.com/event/lions-club/2024-07-09/
LOCATION:Porter Jacks Grill\, 505 S Mill St.\, Manning\, SC\, 29102\, United States
CATEGORIES:Meeting
ATTACH;FMTTYPE=image/png:https://clarendoncounty.com/wp-content/uploads/2022/07/Lions-Club-Logo.png
END:VEVENT
BEGIN:VEVENT
DTSTART;TZID=America/New_York:20240813T183000
DTEND;TZID=America/New_York:20240813T200000
DTSTAMP:20260423T050902
CREATED:20220729T060159Z
LAST-MODIFIED:20230124T155335Z
UID:10000478-1723573800-1723579200@clarendoncounty.com
SUMMARY:Lions Club
DESCRIPTION:
URL:https://clarendoncounty.com/event/lions-club/2024-08-13/
LOCATION:Porter Jacks Grill\, 505 S Mill St.\, Manning\, SC\, 29102\, United States
CATEGORIES:Meeting
ATTACH;FMTTYPE=image/png:https://clarendoncounty.com/wp-content/uploads/2022/07/Lions-Club-Logo.png
END:VEVENT
BEGIN:VEVENT
DTSTART;TZID=America/New_York:20240910T183000
DTEND;TZID=America/New_York:20240910T200000
DTSTAMP:20260423T050902
CREATED:20220729T060159Z
LAST-MODIFIED:20230124T155335Z
UID:10000479-1725993000-1725998400@clarendoncounty.com
SUMMARY:Lions Club
DESCRIPTION:
URL:https://clarendoncounty.com/event/lions-club/2024-09-10/
LOCATION:Porter Jacks Grill\, 505 S Mill St.\, Manning\, SC\, 29102\, United States
CATEGORIES:Meeting
ATTACH;FMTTYPE=image/png:https://clarendoncounty.com/wp-content/uploads/2022/07/Lions-Club-Logo.png
END:VEVENT
BEGIN:VEVENT
DTSTART;TZID=America/New_York:20241008T183000
DTEND;TZID=America/New_York:20241008T200000
DTSTAMP:20260423T050902
CREATED:20220729T060159Z
LAST-MODIFIED:20230124T155335Z
UID:10000480-1728412200-1728417600@clarendoncounty.com
SUMMARY:Lions Club
DESCRIPTION:
URL:https://clarendoncounty.com/event/lions-club/2024-10-08/
LOCATION:Porter Jacks Grill\, 505 S Mill St.\, Manning\, SC\, 29102\, United States
CATEGORIES:Meeting
ATTACH;FMTTYPE=image/png:https://clarendoncounty.com/wp-content/uploads/2022/07/Lions-Club-Logo.png
END:VEVENT
BEGIN:VEVENT
DTSTART;TZID=America/New_York:20241112T183000
DTEND;TZID=America/New_York:20241112T200000
DTSTAMP:20260423T050902
CREATED:20220729T060159Z
LAST-MODIFIED:20230124T155335Z
UID:10000481-1731436200-1731441600@clarendoncounty.com
SUMMARY:Lions Club
DESCRIPTION:
URL:https://clarendoncounty.com/event/lions-club/2024-11-12/
LOCATION:Porter Jacks Grill\, 505 S Mill St.\, Manning\, SC\, 29102\, United States
CATEGORIES:Meeting
ATTACH;FMTTYPE=image/png:https://clarendoncounty.com/wp-content/uploads/2022/07/Lions-Club-Logo.png
END:VEVENT
BEGIN:VEVENT
DTSTART;TZID=America/New_York:20241210T183000
DTEND;TZID=America/New_York:20241210T200000
DTSTAMP:20260423T050902
CREATED:20220729T060159Z
LAST-MODIFIED:20230124T155335Z
UID:10000482-1733855400-1733860800@clarendoncounty.com
SUMMARY:Lions Club
DESCRIPTION:
URL:https://clarendoncounty.com/event/lions-club/2024-12-10/
LOCATION:Porter Jacks Grill\, 505 S Mill St.\, Manning\, SC\, 29102\, United States
CATEGORIES:Meeting
ATTACH;FMTTYPE=image/png:https://clarendoncounty.com/wp-content/uploads/2022/07/Lions-Club-Logo.png
END:VEVENT
BEGIN:VEVENT
DTSTART;TZID=America/New_York:20250114T183000
DTEND;TZID=America/New_York:20250114T200000
DTSTAMP:20260423T050902
CREATED:20220729T060159Z
LAST-MODIFIED:20230124T155335Z
UID:10000483-1736879400-1736884800@clarendoncounty.com
SUMMARY:Lions Club
DESCRIPTION:
URL:https://clarendoncounty.com/event/lions-club/2025-01-14/
LOCATION:Porter Jacks Grill\, 505 S Mill St.\, Manning\, SC\, 29102\, United States
CATEGORIES:Meeting
ATTACH;FMTTYPE=image/png:https://clarendoncounty.com/wp-content/uploads/2022/07/Lions-Club-Logo.png
END:VEVENT
END:VCALENDAR