BEGIN:VCALENDAR
VERSION:2.0
PRODID:-//Clarendon County Chamber of Commerce - ECPv6.2.0//NONSGML v1.0//EN
CALSCALE:GREGORIAN
METHOD:PUBLISH
X-WR-CALNAME:Clarendon County Chamber of Commerce
X-ORIGINAL-URL:https://clarendoncounty.com
X-WR-CALDESC:Events for Clarendon County Chamber of Commerce
REFRESH-INTERVAL;VALUE=DURATION:PT1H
X-Robots-Tag:noindex
X-PUBLISHED-TTL:PT1H
BEGIN:VTIMEZONE
TZID:America/New_York
BEGIN:DAYLIGHT
TZOFFSETFROM:-0500
TZOFFSETTO:-0400
TZNAME:EDT
DTSTART:20240310T070000
END:DAYLIGHT
BEGIN:STANDARD
TZOFFSETFROM:-0400
TZOFFSETTO:-0500
TZNAME:EST
DTSTART:20241103T060000
END:STANDARD
END:VTIMEZONE
BEGIN:VEVENT
DTSTART;TZID=America/New_York:20240307T070000
DTEND;TZID=America/New_York:20240309T170000
DTSTAMP:20260423T122628
CREATED:20240109T155138Z
LAST-MODIFIED:20240109T155425Z
UID:10001104-1709794800-1710003600@clarendoncounty.com
SUMMARY:Bassmaster Opens - Division 1: Event 2 Santee Cooper Lakes
DESCRIPTION:Bassmaster is back in Clarendon County for the 2024 B.A.S.S. Opens on the Santee Cooper Lakes March 7-9th at the John C. Land\, III Sports Fishing Facility (4404 Greenall Road\, Summerton\, SC 29148). Over 300 boaters and co-anglers will compete over three days for a chance to earn their spot at the Bassmaster Classic. \nBlast off at 7 AM and Weigh-in at 3 PM each day. Follow the action live on www.bassmaster.com or locally at Destination Clarendon\, SC on Facebook. This event is supported by the Clarendon County Chamber of Commerce in association with the Town of Santee and Santee Cooper Country.
URL:https://clarendoncounty.com/event/bassmaster-opens-division-1-event-2-santee-cooper-lakes/
LOCATION:John C. Land\, III Boating & Sports Fishing Facility
CATEGORIES:Children's Event,Community Event,Outdoor Fun,Sporting Event
ATTACH;FMTTYPE=image/png:https://clarendoncounty.com/wp-content/uploads/2024/01/Screenshot-2023-09-28-at-2.59.35-PM.png
ORGANIZER;CN="Clarendon%20County%20Chamber%20of%20Commerce":MAILTO:chamber@clarendoncounty.com
GEO:33.52168;-80.30601
END:VEVENT
BEGIN:VEVENT
DTSTART;TZID=America/New_York:20240303T150000
DTEND;TZID=America/New_York:20240303T170000
DTSTAMP:20260423T122628
CREATED:20240109T162054Z
LAST-MODIFIED:20240109T162058Z
UID:10001108-1709478000-1709485200@clarendoncounty.com
SUMMARY:American Bass Anglers - South Carolina - Midlands
DESCRIPTION:Clarendon County is glad to host the American Bass Anglers (ABA) trail on the Santee Cooper Lakes at the John C. Land\, III Sports Fishing Facility (4404 Greenall Road\, Summerton\, SC 29148). This Sunday event will blast off at 7 AM and weigh-in begins at 3 PM.
URL:https://clarendoncounty.com/event/american-bass-anglers-south-carolina-midlands/
LOCATION:John C. Land\, III Boating & Sports Fishing Facility
CATEGORIES:Outdoor Fun,Sporting Event
ATTACH;FMTTYPE=image/png:https://clarendoncounty.com/wp-content/uploads/2024/01/ABALogo544X180.png
GEO:33.52168;-80.30601
END:VEVENT
BEGIN:VEVENT
DTSTART;TZID=America/New_York:20240302T150000
DTEND;TZID=America/New_York:20240302T170000
DTSTAMP:20260423T122628
CREATED:20240109T192814Z
LAST-MODIFIED:20240109T194709Z
UID:10001116-1709391600-1709398800@clarendoncounty.com
SUMMARY:Bass Kings - Solo Trail Division
DESCRIPTION:The Carolina Anglers Team Trail (C.A.T.T.) will host its Bass Kings Solo Trail Division on the Santee Cooper Lakes on March 2nd. Blast off will begin at 7 AM at the John C. Land\, III Sports Fishing Facility (4404 Greenall Road\, Summerton\, SC 29148) with weigh-in beginning at 3 PM.
URL:https://clarendoncounty.com/event/bass-kings-solo-trail-division/
LOCATION:John C. Land\, III Boating & Sports Fishing Facility
CATEGORIES:Outdoor Fun,Sporting Event
ATTACH;FMTTYPE=image/png:https://clarendoncounty.com/wp-content/uploads/2024/01/bass-kings-logo.png
GEO:33.52168;-80.30601
END:VEVENT
BEGIN:VEVENT
DTSTART;TZID=America/New_York:20240302T150000
DTEND;TZID=America/New_York:20240302T170000
DTSTAMP:20260423T122628
CREATED:20240109T160805Z
LAST-MODIFIED:20240109T160805Z
UID:10001106-1709391600-1709398800@clarendoncounty.com
SUMMARY:Fishers of Men - South Carolina Lowcountry
DESCRIPTION:The Fishers of Men (FOM) Trail will host their 3rd event of the season on the Santee Cooper Lakes in Clarendon County at the John C. Land\, III Sports Fishing Facility (4404 Greenall Road\, Summerton\, SC 29148). Blast off: 7 AM | Weigh-in: 3 PM.
URL:https://clarendoncounty.com/event/fishers-of-men-south-carolina-lowcountry-2/
LOCATION:John C. Land\, III Boating & Sports Fishing Facility
CATEGORIES:Outdoor Fun,Sporting Event
ATTACH;FMTTYPE=image/png:https://clarendoncounty.com/wp-content/uploads/2023/01/Fishers-of-Men.png
GEO:33.52168;-80.30601
END:VEVENT
BEGIN:VEVENT
DTSTART;TZID=America/New_York:20240220T070000
DTEND;TZID=America/New_York:20240225T170000
DTSTAMP:20260423T122628
CREATED:20240109T153301Z
LAST-MODIFIED:20240109T153306Z
UID:10001103-1708412400-1708880400@clarendoncounty.com
SUMMARY:Major League Fishing - Bass Pro Tour: Stage Two Santee Cooper Lakes
DESCRIPTION:Major League Fishing’s top level of anglers are coming to Clarendon County for the Bass Pro Tour: Stage Two Santee Cooper Lakes. Anglers will begin competition on Tuesday\, February 20th and compete for a chance fish for the 1st Place prize of $100\,000 on Championship Sunday. \nJoin in on the fun at the John C. Land\, III Sports Fishing Facility (4404 Greenall Road\, Summerton\, SC 29148) where blast off will take place each morning of competition. On Saturday and Sunday\, February 24th & 25th head down to the landing for a live watch party with Major League Fishing Vendors on-site and trophy presentation! \nFollow the action all week long on www.majorleaguefishing.com\, and locally at Destination Clarendon\, SC on Facebook.
URL:https://clarendoncounty.com/event/major-league-fishing-bass-pro-tour-stage-two-santee-cooper-lakes/
LOCATION:John C. Land\, III Boating & Sports Fishing Facility
CATEGORIES:Children's Event,Community Event,Outdoor Fun,Sporting Event
ATTACH;FMTTYPE=image/webp:https://clarendoncounty.com/wp-content/uploads/2024/01/BPS-MLF-Bass-Pro-Tour-Logo_V3.webp
ORGANIZER;CN="Clarendon%20County%20Chamber%20of%20Commerce":MAILTO:chamber@clarendoncounty.com
GEO:33.52168;-80.30601
END:VEVENT
BEGIN:VEVENT
DTSTART;TZID=America/New_York:20240217T150000
DTEND;TZID=America/New_York:20240217T170000
DTSTAMP:20260423T122628
CREATED:20240109T151411Z
LAST-MODIFIED:20240109T194830Z
UID:10001101-1708182000-1708189200@clarendoncounty.com
SUMMARY:Carolina Anglers Team Trail (C.A.T.T.)
DESCRIPTION:The Carolina Anglers Team Trail (C.A.T.T.) will host Qualifier #3 on the Santee Cooper Lakes in Clarendon County at the John C. Land\, III Sports Fishing Facility (4404 Greenall Road\, Summerton\, SC 29148). Blast off: 7 AM | Weigh-in: 3 PM.
URL:https://clarendoncounty.com/event/carolina-anglers-team-trail-c-a-t-t-2/
LOCATION:John C. Land\, III Boating & Sports Fishing Facility
CATEGORIES:Outdoor Fun,Sporting Event
ATTACH;FMTTYPE=image/png:https://clarendoncounty.com/wp-content/uploads/2023/01/CATT-Logo-Small.png
GEO:33.52168;-80.30601
END:VEVENT
BEGIN:VEVENT
DTSTART;TZID=America/New_York:20240210T150000
DTEND;TZID=America/New_York:20240210T170000
DTSTAMP:20260423T122628
CREATED:20240109T160654Z
LAST-MODIFIED:20240109T160654Z
UID:10001105-1707577200-1707584400@clarendoncounty.com
SUMMARY:Fishers of Men - South Carolina Lowcountry
DESCRIPTION:The Fishers of Men (FOM) Trail will host their 2nd event of the season on the Santee Cooper Lakes in Clarendon County at the John C. Land\, III Sports Fishing Facility (4404 Greenall Road\, Summerton\, SC 29148). Blast off: 7 AM | Weigh-in: 3 PM.
URL:https://clarendoncounty.com/event/fishers-of-men-south-carolina-lowcountry/
LOCATION:John C. Land\, III Boating & Sports Fishing Facility
CATEGORIES:Outdoor Fun,Sporting Event
ATTACH;FMTTYPE=image/png:https://clarendoncounty.com/wp-content/uploads/2023/01/Fishers-of-Men.png
GEO:33.52168;-80.30601
END:VEVENT
BEGIN:VEVENT
DTSTART;TZID=America/New_York:20240210T150000
DTEND;TZID=America/New_York:20240210T170000
DTSTAMP:20260423T122628
CREATED:20240109T151123Z
LAST-MODIFIED:20240109T194944Z
UID:10001099-1707577200-1707584400@clarendoncounty.com
SUMMARY:Carolina Anglers Team Trail (C.A.T.T.)
DESCRIPTION:The Carolina Anglers Team Trail (C.A.T.T.) will host Qualifier #2 on the Santee Cooper Lakes in Clarendon County at the John C. Land\, III Sports Fishing Facility (4404 Greenall Road\, Summerton\, SC 29148). Blast off: 7 AM | Weigh-in: 3 PM.
URL:https://clarendoncounty.com/event/carolina-anglers-team-trail-c-a-t-t/
LOCATION:John C. Land\, III Boating & Sports Fishing Facility
CATEGORIES:Outdoor Fun,Sporting Event
ATTACH;FMTTYPE=image/png:https://clarendoncounty.com/wp-content/uploads/2023/01/CATT-Logo-Small.png
GEO:33.52168;-80.30601
END:VEVENT
END:VCALENDAR