BEGIN:VCALENDAR
VERSION:2.0
PRODID:-//Clarendon County Chamber of Commerce - ECPv6.2.0//NONSGML v1.0//EN
CALSCALE:GREGORIAN
METHOD:PUBLISH
X-WR-CALNAME:Clarendon County Chamber of Commerce
X-ORIGINAL-URL:https://clarendoncounty.com
X-WR-CALDESC:Events for Clarendon County Chamber of Commerce
REFRESH-INTERVAL;VALUE=DURATION:PT1H
X-Robots-Tag:noindex
X-PUBLISHED-TTL:PT1H
BEGIN:VTIMEZONE
TZID:America/New_York
BEGIN:DAYLIGHT
TZOFFSETFROM:-0500
TZOFFSETTO:-0400
TZNAME:EDT
DTSTART:20260308T070000
END:DAYLIGHT
BEGIN:STANDARD
TZOFFSETFROM:-0400
TZOFFSETTO:-0500
TZNAME:EST
DTSTART:20261101T060000
END:STANDARD
BEGIN:DAYLIGHT
TZOFFSETFROM:-0500
TZOFFSETTO:-0400
TZNAME:EDT
DTSTART:20270314T070000
END:DAYLIGHT
BEGIN:STANDARD
TZOFFSETFROM:-0400
TZOFFSETTO:-0500
TZNAME:EST
DTSTART:20271107T060000
END:STANDARD
END:VTIMEZONE
BEGIN:VEVENT
DTSTART;TZID=America/New_York:20260903T181500
DTEND;TZID=America/New_York:20260903T190000
DTSTAMP:20260425T210851
CREATED:20240724T184350Z
LAST-MODIFIED:20240724T184350Z
UID:10001288-1788459300-1788462000@clarendoncounty.com
SUMMARY:Turbeville Ruritan Club
DESCRIPTION:The Turbeville Ruritan Club has been serving the East Clarendon Community since 1951.  The word “Ruritan” is a combination of the Latin words for open country “ruri” and small town “tan\,” interpreted as pertaining to rural and small town life.  Ruritan National has nearly 25\,000 members throughout the United States and more than 900 local communities. \nJoin the Turbeville Ruritan Club at their monthly meetings every first Thursday at 6:15pm at Becky’s Cafe located at 1709 Main Street\, Turbeville SC 29162.  For questions call 803.825.1171. \n  \nwww.facebook.com/turbevilleruritanclub
URL:https://clarendoncounty.com/event/turbeville-ruritan-club/2026-09-03/
LOCATION:South Carolina
ATTACH;FMTTYPE=image/jpeg:https://clarendoncounty.com/wp-content/uploads/2024/07/Turbeville-Ruritan-Club.jpg
END:VEVENT
BEGIN:VEVENT
DTSTART;TZID=America/New_York:20261001T181500
DTEND;TZID=America/New_York:20261001T190000
DTSTAMP:20260425T210851
CREATED:20240724T184350Z
LAST-MODIFIED:20240724T184350Z
UID:10001289-1790878500-1790881200@clarendoncounty.com
SUMMARY:Turbeville Ruritan Club
DESCRIPTION:The Turbeville Ruritan Club has been serving the East Clarendon Community since 1951.  The word “Ruritan” is a combination of the Latin words for open country “ruri” and small town “tan\,” interpreted as pertaining to rural and small town life.  Ruritan National has nearly 25\,000 members throughout the United States and more than 900 local communities. \nJoin the Turbeville Ruritan Club at their monthly meetings every first Thursday at 6:15pm at Becky’s Cafe located at 1709 Main Street\, Turbeville SC 29162.  For questions call 803.825.1171. \n  \nwww.facebook.com/turbevilleruritanclub
URL:https://clarendoncounty.com/event/turbeville-ruritan-club/2026-10-01/
LOCATION:South Carolina
ATTACH;FMTTYPE=image/jpeg:https://clarendoncounty.com/wp-content/uploads/2024/07/Turbeville-Ruritan-Club.jpg
END:VEVENT
BEGIN:VEVENT
DTSTART;TZID=America/New_York:20261031T080000
DTEND;TZID=America/New_York:20261031T090000
DTSTAMP:20260425T210851
CREATED:20260115T183122Z
LAST-MODIFIED:20260312T153817Z
UID:10001476-1793433600-1793437200@clarendoncounty.com
SUMMARY:Sumter/Clarendon Heart Walk
DESCRIPTION:
URL:https://clarendoncounty.com/event/sumter-clarendon-heart-walk/
LOCATION:tba
END:VEVENT
BEGIN:VEVENT
DTSTART;TZID=America/New_York:20261105T181500
DTEND;TZID=America/New_York:20261105T190000
DTSTAMP:20260425T210851
CREATED:20240724T184350Z
LAST-MODIFIED:20240724T184350Z
UID:10001290-1793902500-1793905200@clarendoncounty.com
SUMMARY:Turbeville Ruritan Club
DESCRIPTION:The Turbeville Ruritan Club has been serving the East Clarendon Community since 1951.  The word “Ruritan” is a combination of the Latin words for open country “ruri” and small town “tan\,” interpreted as pertaining to rural and small town life.  Ruritan National has nearly 25\,000 members throughout the United States and more than 900 local communities. \nJoin the Turbeville Ruritan Club at their monthly meetings every first Thursday at 6:15pm at Becky’s Cafe located at 1709 Main Street\, Turbeville SC 29162.  For questions call 803.825.1171. \n  \nwww.facebook.com/turbevilleruritanclub
URL:https://clarendoncounty.com/event/turbeville-ruritan-club/2026-11-05/
LOCATION:South Carolina
ATTACH;FMTTYPE=image/jpeg:https://clarendoncounty.com/wp-content/uploads/2024/07/Turbeville-Ruritan-Club.jpg
END:VEVENT
BEGIN:VEVENT
DTSTART;TZID=America/New_York:20261203T181500
DTEND;TZID=America/New_York:20261203T190000
DTSTAMP:20260425T210851
CREATED:20240724T184350Z
LAST-MODIFIED:20240724T184350Z
UID:10001291-1796321700-1796324400@clarendoncounty.com
SUMMARY:Turbeville Ruritan Club
DESCRIPTION:The Turbeville Ruritan Club has been serving the East Clarendon Community since 1951.  The word “Ruritan” is a combination of the Latin words for open country “ruri” and small town “tan\,” interpreted as pertaining to rural and small town life.  Ruritan National has nearly 25\,000 members throughout the United States and more than 900 local communities. \nJoin the Turbeville Ruritan Club at their monthly meetings every first Thursday at 6:15pm at Becky’s Cafe located at 1709 Main Street\, Turbeville SC 29162.  For questions call 803.825.1171. \n  \nwww.facebook.com/turbevilleruritanclub
URL:https://clarendoncounty.com/event/turbeville-ruritan-club/2026-12-03/
LOCATION:South Carolina
ATTACH;FMTTYPE=image/jpeg:https://clarendoncounty.com/wp-content/uploads/2024/07/Turbeville-Ruritan-Club.jpg
END:VEVENT
BEGIN:VEVENT
DTSTART;TZID=America/New_York:20270107T181500
DTEND;TZID=America/New_York:20270107T190000
DTSTAMP:20260425T210851
CREATED:20240724T184350Z
LAST-MODIFIED:20240724T184350Z
UID:10001292-1799345700-1799348400@clarendoncounty.com
SUMMARY:Turbeville Ruritan Club
DESCRIPTION:The Turbeville Ruritan Club has been serving the East Clarendon Community since 1951.  The word “Ruritan” is a combination of the Latin words for open country “ruri” and small town “tan\,” interpreted as pertaining to rural and small town life.  Ruritan National has nearly 25\,000 members throughout the United States and more than 900 local communities. \nJoin the Turbeville Ruritan Club at their monthly meetings every first Thursday at 6:15pm at Becky’s Cafe located at 1709 Main Street\, Turbeville SC 29162.  For questions call 803.825.1171. \n  \nwww.facebook.com/turbevilleruritanclub
URL:https://clarendoncounty.com/event/turbeville-ruritan-club/2027-01-07/
LOCATION:South Carolina
ATTACH;FMTTYPE=image/jpeg:https://clarendoncounty.com/wp-content/uploads/2024/07/Turbeville-Ruritan-Club.jpg
END:VEVENT
BEGIN:VEVENT
DTSTART;TZID=America/New_York:20270204T181500
DTEND;TZID=America/New_York:20270204T190000
DTSTAMP:20260425T210851
CREATED:20240724T184350Z
LAST-MODIFIED:20240724T184350Z
UID:10001293-1801764900-1801767600@clarendoncounty.com
SUMMARY:Turbeville Ruritan Club
DESCRIPTION:The Turbeville Ruritan Club has been serving the East Clarendon Community since 1951.  The word “Ruritan” is a combination of the Latin words for open country “ruri” and small town “tan\,” interpreted as pertaining to rural and small town life.  Ruritan National has nearly 25\,000 members throughout the United States and more than 900 local communities. \nJoin the Turbeville Ruritan Club at their monthly meetings every first Thursday at 6:15pm at Becky’s Cafe located at 1709 Main Street\, Turbeville SC 29162.  For questions call 803.825.1171. \n  \nwww.facebook.com/turbevilleruritanclub
URL:https://clarendoncounty.com/event/turbeville-ruritan-club/2027-02-04/
LOCATION:South Carolina
ATTACH;FMTTYPE=image/jpeg:https://clarendoncounty.com/wp-content/uploads/2024/07/Turbeville-Ruritan-Club.jpg
END:VEVENT
BEGIN:VEVENT
DTSTART;TZID=America/New_York:20270304T181500
DTEND;TZID=America/New_York:20270304T190000
DTSTAMP:20260425T210851
CREATED:20240724T184350Z
LAST-MODIFIED:20240724T184350Z
UID:10001294-1804184100-1804186800@clarendoncounty.com
SUMMARY:Turbeville Ruritan Club
DESCRIPTION:The Turbeville Ruritan Club has been serving the East Clarendon Community since 1951.  The word “Ruritan” is a combination of the Latin words for open country “ruri” and small town “tan\,” interpreted as pertaining to rural and small town life.  Ruritan National has nearly 25\,000 members throughout the United States and more than 900 local communities. \nJoin the Turbeville Ruritan Club at their monthly meetings every first Thursday at 6:15pm at Becky’s Cafe located at 1709 Main Street\, Turbeville SC 29162.  For questions call 803.825.1171. \n  \nwww.facebook.com/turbevilleruritanclub
URL:https://clarendoncounty.com/event/turbeville-ruritan-club/2027-03-04/
LOCATION:South Carolina
ATTACH;FMTTYPE=image/jpeg:https://clarendoncounty.com/wp-content/uploads/2024/07/Turbeville-Ruritan-Club.jpg
END:VEVENT
BEGIN:VEVENT
DTSTART;TZID=America/New_York:20270401T181500
DTEND;TZID=America/New_York:20270401T190000
DTSTAMP:20260425T210851
CREATED:20240724T184350Z
LAST-MODIFIED:20240724T184350Z
UID:10001295-1806603300-1806606000@clarendoncounty.com
SUMMARY:Turbeville Ruritan Club
DESCRIPTION:The Turbeville Ruritan Club has been serving the East Clarendon Community since 1951.  The word “Ruritan” is a combination of the Latin words for open country “ruri” and small town “tan\,” interpreted as pertaining to rural and small town life.  Ruritan National has nearly 25\,000 members throughout the United States and more than 900 local communities. \nJoin the Turbeville Ruritan Club at their monthly meetings every first Thursday at 6:15pm at Becky’s Cafe located at 1709 Main Street\, Turbeville SC 29162.  For questions call 803.825.1171. \n  \nwww.facebook.com/turbevilleruritanclub
URL:https://clarendoncounty.com/event/turbeville-ruritan-club/2027-04-01/
LOCATION:South Carolina
ATTACH;FMTTYPE=image/jpeg:https://clarendoncounty.com/wp-content/uploads/2024/07/Turbeville-Ruritan-Club.jpg
END:VEVENT
BEGIN:VEVENT
DTSTART;TZID=America/New_York:20270506T181500
DTEND;TZID=America/New_York:20270506T190000
DTSTAMP:20260425T210851
CREATED:20240724T184350Z
LAST-MODIFIED:20240724T184350Z
UID:10001296-1809627300-1809630000@clarendoncounty.com
SUMMARY:Turbeville Ruritan Club
DESCRIPTION:The Turbeville Ruritan Club has been serving the East Clarendon Community since 1951.  The word “Ruritan” is a combination of the Latin words for open country “ruri” and small town “tan\,” interpreted as pertaining to rural and small town life.  Ruritan National has nearly 25\,000 members throughout the United States and more than 900 local communities. \nJoin the Turbeville Ruritan Club at their monthly meetings every first Thursday at 6:15pm at Becky’s Cafe located at 1709 Main Street\, Turbeville SC 29162.  For questions call 803.825.1171. \n  \nwww.facebook.com/turbevilleruritanclub
URL:https://clarendoncounty.com/event/turbeville-ruritan-club/2027-05-06/
LOCATION:South Carolina
ATTACH;FMTTYPE=image/jpeg:https://clarendoncounty.com/wp-content/uploads/2024/07/Turbeville-Ruritan-Club.jpg
END:VEVENT
END:VCALENDAR