BEGIN:VCALENDAR
VERSION:2.0
PRODID:-//Clarendon County Chamber of Commerce - ECPv6.2.0//NONSGML v1.0//EN
CALSCALE:GREGORIAN
METHOD:PUBLISH
X-WR-CALNAME:Clarendon County Chamber of Commerce
X-ORIGINAL-URL:https://clarendoncounty.com
X-WR-CALDESC:Events for Clarendon County Chamber of Commerce
REFRESH-INTERVAL;VALUE=DURATION:PT1H
X-Robots-Tag:noindex
X-PUBLISHED-TTL:PT1H
BEGIN:VTIMEZONE
TZID:America/New_York
BEGIN:DAYLIGHT
TZOFFSETFROM:-0500
TZOFFSETTO:-0400
TZNAME:EDT
DTSTART:20260308T070000
END:DAYLIGHT
BEGIN:STANDARD
TZOFFSETFROM:-0400
TZOFFSETTO:-0500
TZNAME:EST
DTSTART:20261101T060000
END:STANDARD
END:VTIMEZONE
BEGIN:VEVENT
DTSTART;VALUE=DATE:20260502
DTEND;VALUE=DATE:20260503
DTSTAMP:20260419T103939
CREATED:20260109T155711Z
LAST-MODIFIED:20260109T155711Z
UID:10001471-1777680000-1777766399@clarendoncounty.com
SUMMARY:Carolinas Bass Challenge
DESCRIPTION:
URL:https://clarendoncounty.com/event/carolinas-bass-challenge/
LOCATION:John C. Land\, III Boating & Sports Fishing Facility
ORGANIZER;CN="Clarendon%20County%20Chamber%20of%20Commerce":MAILTO:chamber@clarendoncounty.com
GEO:33.52168;-80.30601
END:VEVENT
BEGIN:VEVENT
DTSTART;TZID=America/New_York:20260507T181500
DTEND;TZID=America/New_York:20260507T190000
DTSTAMP:20260419T103939
CREATED:20240724T184350Z
LAST-MODIFIED:20240724T184350Z
UID:10001284-1778177700-1778180400@clarendoncounty.com
SUMMARY:Turbeville Ruritan Club
DESCRIPTION:The Turbeville Ruritan Club has been serving the East Clarendon Community since 1951.  The word “Ruritan” is a combination of the Latin words for open country “ruri” and small town “tan\,” interpreted as pertaining to rural and small town life.  Ruritan National has nearly 25\,000 members throughout the United States and more than 900 local communities. \nJoin the Turbeville Ruritan Club at their monthly meetings every first Thursday at 6:15pm at Becky’s Cafe located at 1709 Main Street\, Turbeville SC 29162.  For questions call 803.825.1171. \n  \nwww.facebook.com/turbevilleruritanclub
URL:https://clarendoncounty.com/event/turbeville-ruritan-club/2026-05-07/
ATTACH;FMTTYPE=image/jpeg:https://clarendoncounty.com/wp-content/uploads/2024/07/Turbeville-Ruritan-Club.jpg
END:VEVENT
BEGIN:VEVENT
DTSTART;VALUE=DATE:20260514
DTEND;VALUE=DATE:20260518
DTSTAMP:20260419T103939
CREATED:20260109T155810Z
LAST-MODIFIED:20260109T155810Z
UID:10001472-1778716800-1779062399@clarendoncounty.com
SUMMARY:Bassmaster Elite Series
DESCRIPTION:
URL:https://clarendoncounty.com/event/bassmaster-elite-series/
LOCATION:John C. Land\, III Boating & Sports Fishing Facility
ORGANIZER;CN="Clarendon%20County%20Chamber%20of%20Commerce":MAILTO:chamber@clarendoncounty.com
GEO:33.52168;-80.30601
END:VEVENT
BEGIN:VEVENT
DTSTART;VALUE=DATE:20260530
DTEND;VALUE=DATE:20260601
DTSTAMP:20260419T103939
CREATED:20260109T155944Z
LAST-MODIFIED:20260109T155944Z
UID:10001473-1780099200-1780271999@clarendoncounty.com
SUMMARY:Queen City Kayak and Bassmaster Kayak Series
DESCRIPTION:
URL:https://clarendoncounty.com/event/queen-city-kayak-and-bassmaster-kayak-series/
LOCATION:John C. Land\, III Boating & Sports Fishing Facility
ORGANIZER;CN="Clarendon%20County%20Chamber%20of%20Commerce":MAILTO:chamber@clarendoncounty.com
GEO:33.52168;-80.30601
END:VEVENT
END:VCALENDAR