BEGIN:VCALENDAR
VERSION:2.0
PRODID:-//Clarendon County Chamber of Commerce - ECPv6.2.0//NONSGML v1.0//EN
CALSCALE:GREGORIAN
METHOD:PUBLISH
X-WR-CALNAME:Clarendon County Chamber of Commerce
X-ORIGINAL-URL:https://clarendoncounty.com
X-WR-CALDESC:Events for Clarendon County Chamber of Commerce
REFRESH-INTERVAL;VALUE=DURATION:PT1H
X-Robots-Tag:noindex
X-PUBLISHED-TTL:PT1H
BEGIN:VTIMEZONE
TZID:America/New_York
BEGIN:DAYLIGHT
TZOFFSETFROM:-0500
TZOFFSETTO:-0400
TZNAME:EDT
DTSTART:20260308T070000
END:DAYLIGHT
BEGIN:STANDARD
TZOFFSETFROM:-0400
TZOFFSETTO:-0500
TZNAME:EST
DTSTART:20261101T060000
END:STANDARD
END:VTIMEZONE
BEGIN:VEVENT
DTSTART;VALUE=DATE:20260328
DTEND;VALUE=DATE:20260329
DTSTAMP:20260419T120845
CREATED:20260109T154647Z
LAST-MODIFIED:20260109T154647Z
UID:10001466-1774656000-1774742399@clarendoncounty.com
SUMMARY:Phantom Outdoors Open
DESCRIPTION:
URL:https://clarendoncounty.com/event/phantom-outdoors-open/
LOCATION:John C. Land\, III Boating & Sports Fishing Facility
ORGANIZER;CN="Clarendon%20County%20Chamber%20of%20Commerce":MAILTO:chamber@clarendoncounty.com
GEO:33.52168;-80.30601
END:VEVENT
BEGIN:VEVENT
DTSTART;TZID=America/New_York:20260328T130000
DTEND;TZID=America/New_York:20260328T170000
DTSTAMP:20260419T120845
CREATED:20260213T142510Z
LAST-MODIFIED:20260213T142649Z
UID:10001479-1774702800-1774717200@clarendoncounty.com
SUMMARY:Striped Bass Festival Pageant
DESCRIPTION:
URL:https://clarendoncounty.com/event/striped-bass-festival-pageant-2/
LOCATION:East Clarendon High School\, 1171 Pope Street\, Turbeville\, South Carolina\, 29162
END:VEVENT
END:VCALENDAR