BEGIN:VCALENDAR
VERSION:2.0
PRODID:-//Clarendon County Chamber of Commerce - ECPv6.2.0//NONSGML v1.0//EN
CALSCALE:GREGORIAN
METHOD:PUBLISH
X-WR-CALNAME:Clarendon County Chamber of Commerce
X-ORIGINAL-URL:https://clarendoncounty.com
X-WR-CALDESC:Events for Clarendon County Chamber of Commerce
REFRESH-INTERVAL;VALUE=DURATION:PT1H
X-Robots-Tag:noindex
X-PUBLISHED-TTL:PT1H
BEGIN:VTIMEZONE
TZID:America/New_York
BEGIN:DAYLIGHT
TZOFFSETFROM:-0500
TZOFFSETTO:-0400
TZNAME:EDT
DTSTART:20240310T070000
END:DAYLIGHT
BEGIN:STANDARD
TZOFFSETFROM:-0400
TZOFFSETTO:-0500
TZNAME:EST
DTSTART:20241103T060000
END:STANDARD
BEGIN:DAYLIGHT
TZOFFSETFROM:-0500
TZOFFSETTO:-0400
TZNAME:EDT
DTSTART:20250309T070000
END:DAYLIGHT
BEGIN:STANDARD
TZOFFSETFROM:-0400
TZOFFSETTO:-0500
TZNAME:EST
DTSTART:20251102T060000
END:STANDARD
BEGIN:DAYLIGHT
TZOFFSETFROM:-0500
TZOFFSETTO:-0400
TZNAME:EDT
DTSTART:20260308T070000
END:DAYLIGHT
BEGIN:STANDARD
TZOFFSETFROM:-0400
TZOFFSETTO:-0500
TZNAME:EST
DTSTART:20261101T060000
END:STANDARD
END:VTIMEZONE
BEGIN:VEVENT
DTSTART;VALUE=DATE:20260418
DTEND;VALUE=DATE:20260419
DTSTAMP:20260423T165552
CREATED:20260109T155510Z
LAST-MODIFIED:20260109T155510Z
UID:10001469-1776470400-1776556799@clarendoncounty.com
SUMMARY:Santee Cooper Open Team Tournament Clarendon County Chamber of Commerce
DESCRIPTION:
URL:https://clarendoncounty.com/event/santee-cooper-open-team-tournament-clarendon-county-chamber-of-commerce/
LOCATION:John C. Land\, III Boating & Sports Fishing Facility
ORGANIZER;CN="Clarendon%20County%20Chamber%20of%20Commerce":MAILTO:chamber@clarendoncounty.com
GEO:33.52168;-80.30601
END:VEVENT
BEGIN:VEVENT
DTSTART;VALUE=DATE:20260411
DTEND;VALUE=DATE:20260413
DTSTAMP:20260423T165552
CREATED:20260109T155326Z
LAST-MODIFIED:20260109T155326Z
UID:10001468-1775865600-1776038399@clarendoncounty.com
SUMMARY:Bassmaster Jr. High\, High School\, & Collegiate Tournament
DESCRIPTION:
URL:https://clarendoncounty.com/event/bassmaster-jr-high-high-school-collegiate-tournament/
LOCATION:John C. Land\, III Boating & Sports Fishing Facility
ORGANIZER;CN="Clarendon%20County%20Chamber%20of%20Commerce":MAILTO:chamber@clarendoncounty.com
GEO:33.52168;-80.30601
END:VEVENT
BEGIN:VEVENT
DTSTART;VALUE=DATE:20260328
DTEND;VALUE=DATE:20260329
DTSTAMP:20260423T165552
CREATED:20260109T154647Z
LAST-MODIFIED:20260109T154647Z
UID:10001466-1774656000-1774742399@clarendoncounty.com
SUMMARY:Phantom Outdoors Open
DESCRIPTION:
URL:https://clarendoncounty.com/event/phantom-outdoors-open/
LOCATION:John C. Land\, III Boating & Sports Fishing Facility
ORGANIZER;CN="Clarendon%20County%20Chamber%20of%20Commerce":MAILTO:chamber@clarendoncounty.com
GEO:33.52168;-80.30601
END:VEVENT
BEGIN:VEVENT
DTSTART;VALUE=DATE:20260321
DTEND;VALUE=DATE:20260322
DTSTAMP:20260423T165552
CREATED:20260109T154440Z
LAST-MODIFIED:20260109T154440Z
UID:10001465-1774051200-1774137599@clarendoncounty.com
SUMMARY:Fishers of Men
DESCRIPTION:
URL:https://clarendoncounty.com/event/fishers-of-men/
LOCATION:John C. Land\, III Boating & Sports Fishing Facility
ORGANIZER;CN="Clarendon%20County%20Chamber%20of%20Commerce":MAILTO:chamber@clarendoncounty.com
GEO:33.52168;-80.30601
END:VEVENT
BEGIN:VEVENT
DTSTART;VALUE=DATE:20260314
DTEND;VALUE=DATE:20260315
DTSTAMP:20260423T165552
CREATED:20260109T154240Z
LAST-MODIFIED:20260109T154240Z
UID:10001464-1773446400-1773532799@clarendoncounty.com
SUMMARY:Phoenix Bass Fishing League-Major League Fishing
DESCRIPTION:
URL:https://clarendoncounty.com/event/phoenix-bass-fishing-league-major-league-fishing/
LOCATION:John C. Land\, III Boating & Sports Fishing Facility
ORGANIZER;CN="Clarendon%20County%20Chamber%20of%20Commerce":MAILTO:chamber@clarendoncounty.com
GEO:33.52168;-80.30601
END:VEVENT
BEGIN:VEVENT
DTSTART;VALUE=DATE:20260308
DTEND;VALUE=DATE:20260309
DTSTAMP:20260423T165552
CREATED:20260204T194410Z
LAST-MODIFIED:20260204T194410Z
UID:10001477-1772928000-1773014399@clarendoncounty.com
SUMMARY:ABA Fishing Tournament
DESCRIPTION:
URL:https://clarendoncounty.com/event/aba-fishing-tournament/
LOCATION:John C. Land\, III Boating & Sports Fishing Facility
ORGANIZER;CN="Clarendon%20County%20Chamber%20of%20Commerce":MAILTO:chamber@clarendoncounty.com
GEO:33.52168;-80.30601
END:VEVENT
BEGIN:VEVENT
DTSTART;VALUE=DATE:20260307
DTEND;VALUE=DATE:20260308
DTSTAMP:20260423T165552
CREATED:20260109T154127Z
LAST-MODIFIED:20260109T154127Z
UID:10001463-1772841600-1772927999@clarendoncounty.com
SUMMARY:Carolina Bass Challenge
DESCRIPTION:
URL:https://clarendoncounty.com/event/carolina-bass-challenge-3/
LOCATION:John C. Land\, III Boating & Sports Fishing Facility
ORGANIZER;CN="Clarendon%20County%20Chamber%20of%20Commerce":MAILTO:chamber@clarendoncounty.com
GEO:33.52168;-80.30601
END:VEVENT
BEGIN:VEVENT
DTSTART;VALUE=DATE:20260226
DTEND;VALUE=DATE:20260302
DTSTAMP:20260423T165552
CREATED:20260109T154037Z
LAST-MODIFIED:20260109T154037Z
UID:10001462-1772064000-1772409599@clarendoncounty.com
SUMMARY:Tackle Warehouse Invitationals Major League Fishing
DESCRIPTION:Ta
URL:https://clarendoncounty.com/event/tackle-warehouse-invitationals-major-league-fishing/
LOCATION:John C. Land\, III Boating & Sports Fishing Facility
ORGANIZER;CN="Clarendon%20County%20Chamber%20of%20Commerce":MAILTO:chamber@clarendoncounty.com
GEO:33.52168;-80.30601
END:VEVENT
BEGIN:VEVENT
DTSTART;VALUE=DATE:20260221
DTEND;VALUE=DATE:20260222
DTSTAMP:20260423T165552
CREATED:20260109T153912Z
LAST-MODIFIED:20260109T153912Z
UID:10001461-1771632000-1771718399@clarendoncounty.com
SUMMARY:No Limit Series Queen City Kayak Fishing Tournament
DESCRIPTION:
URL:https://clarendoncounty.com/event/no-limit-series-queen-city-kayak-fishing-tournament/
LOCATION:John C. Land\, III Boating & Sports Fishing Facility
ORGANIZER;CN="Clarendon%20County%20Chamber%20of%20Commerce":MAILTO:chamber@clarendoncounty.com
GEO:33.52168;-80.30601
END:VEVENT
BEGIN:VEVENT
DTSTART;TZID=America/New_York:20250204T120000
DTEND;TZID=America/New_York:20250204T130000
DTSTAMP:20260423T165552
CREATED:20250113T191737Z
LAST-MODIFIED:20250113T191737Z
UID:10001390-1738670400-1738674000@clarendoncounty.com
SUMMARY:Blue Cross Blue Shield Luncheon
DESCRIPTION:Join us for a luncheon at the Chamber of Commerce office to learn about joining Blue Cross Blue Shield’s insurance plans. This event is for Chamber members only. Call us if you have any questions! 803.435.4405
URL:https://clarendoncounty.com/event/blue-cross-blue-shield-luncheon/
LOCATION:Clarendon County Chamber of Commerce\, 19 N Brooks St\, Manning\, South Carolina\, 29102
ATTACH;FMTTYPE=image/jpeg:https://clarendoncounty.com/wp-content/uploads/2025/01/Web-capture_13-1-2025_141553_.jpeg
ORGANIZER;CN="Clarendon%20County%20Chamber%20of%20Commerce":MAILTO:chamber@clarendoncounty.com
END:VEVENT
BEGIN:VEVENT
DTSTART;TZID=America/New_York:20241205T180000
DTEND;TZID=America/New_York:20241205T200000
DTSTAMP:20260423T165552
CREATED:20240618T133725Z
LAST-MODIFIED:20240619T145141Z
UID:10001246-1733421600-1733428800@clarendoncounty.com
SUMMARY:Soups\, Stews & Sweets
DESCRIPTION:Save the Date – Soups\, Stews & Sweets returns on Thursday\, December 5\, 2024 on Brooks Street in Manning SC.
URL:https://clarendoncounty.com/event/soups-stews-sweets-2/
LOCATION:Brooks Street – Manning\, SC\, United States
CATEGORIES:Community Event,Fundraiser,Outdoor Fun
ATTACH;FMTTYPE=image/png:https://clarendoncounty.com/wp-content/uploads/2024/06/SSS-Save-the-Date-Dec-5-2024.png
ORGANIZER;CN="Clarendon%20County%20Chamber%20of%20Commerce":MAILTO:chamber@clarendoncounty.com
END:VEVENT
BEGIN:VEVENT
DTSTART;VALUE=DATE:20240518
DTEND;VALUE=DATE:20240520
DTSTAMP:20260423T165552
CREATED:20240109T184602Z
LAST-MODIFIED:20240109T184602Z
UID:10001114-1715990400-1716163199@clarendoncounty.com
SUMMARY:Kayak Bass Fishing (KBF)
DESCRIPTION:Clarendon County is excited to welcome the KBF crew to our area. This two-day event will welcome kayak anglers from across the nation to the Santee Cooper Lakes on May 18th & 19th. Anglers will submit their catches virtually each day and attend a final awards ceremony Sunday evening.
URL:https://clarendoncounty.com/event/kayak-bass-fishing-kbf/
CATEGORIES:Outdoor Fun,Sporting Event
ATTACH;FMTTYPE=image/jpeg:https://clarendoncounty.com/wp-content/uploads/2023/01/Kayak-Bass-Fishing.jpg
ORGANIZER;CN="Clarendon%20County%20Chamber%20of%20Commerce":MAILTO:chamber@clarendoncounty.com
END:VEVENT
BEGIN:VEVENT
DTSTART;TZID=America/New_York:20240504T160000
DTEND;TZID=America/New_York:20240504T173000
DTSTAMP:20260423T165552
CREATED:20240109T182222Z
LAST-MODIFIED:20240109T182222Z
UID:10001112-1714838400-1714843800@clarendoncounty.com
SUMMARY:Queen City Kayak Bass Fishing - Main Trail
DESCRIPTION:Clarendon County is excited to welcome the QCKBF crew back to our area for another great year of fishing. After visiting earlier in the season on their Southern Trail\, the entire field of anglers will test their fate on the Santee Cooper Lakes on May 4th before attending an awards ceremony at the Manning Junior High School Gymnasium at 4 PM.
URL:https://clarendoncounty.com/event/queen-city-kayak-bass-fishing-main-trail/
CATEGORIES:Outdoor Fun,Sporting Event
ATTACH;FMTTYPE=image/png:https://clarendoncounty.com/wp-content/uploads/2023/01/Queen-City-Logo.png
ORGANIZER;CN="Clarendon%20County%20Chamber%20of%20Commerce":MAILTO:chamber@clarendoncounty.com
END:VEVENT
BEGIN:VEVENT
DTSTART;TZID=America/New_York:20240426T180000
DTEND;TZID=America/New_York:20240427T180000
DTSTAMP:20260423T165552
CREATED:20240108T215143Z
LAST-MODIFIED:20240220T194440Z
UID:10001097-1714154400-1714240800@clarendoncounty.com
SUMMARY:Striped Bass Festival - 2024
DESCRIPTION:Clarendon County’s signature Striped Bass Festival returns for it’s 43rd year on April 26 & 27th. Join in on the festivities on Friday night with the Downtown Concert at the gazebo in Manning. Super Saturday kicks off with the Striped Bass Festival Parade beginning at 10 AM. Enjoy downtown vendors\, car and art shows and festive food trucks for the whole family!
URL:https://clarendoncounty.com/event/striped-bass-festival-2024/
LOCATION:Downtown Manning\, Manning\, SC\, 29102\, United States
CATEGORIES:Children's Event,Community Event,Festival,Outdoor Fun,Show/Concert
ATTACH;FMTTYPE=image/png:https://clarendoncounty.com/wp-content/uploads/2024/01/2024-Striped-Bass-Festival-Dates.png
ORGANIZER;CN="Clarendon%20County%20Chamber%20of%20Commerce":MAILTO:chamber@clarendoncounty.com
END:VEVENT
BEGIN:VEVENT
DTSTART;TZID=America/New_York:20240420T150000
DTEND;TZID=America/New_York:20240420T170000
DTSTAMP:20260423T165552
CREATED:20240109T165748Z
LAST-MODIFIED:20240109T165807Z
UID:10001111-1713625200-1713632400@clarendoncounty.com
SUMMARY:2024 Santee Cooper Open Team Tournament
DESCRIPTION:The Santee Cooper Open Team Tournament (SCOTT) is excited to return for 2024. The tournament will take place at the John C. Land\, III Sports Fishing Facility (4404 Greenall Road\, Summerton\, SC 29148) on Saturday April 20th. For event details or to sign up\, contact the Clarendon County Chamber of Commerce: 803-435-4405 or email tourism@clarendoncounty.com.
URL:https://clarendoncounty.com/event/2024-santee-cooper-open-team-tournament/
LOCATION:John C. Land\, III Boating & Sports Fishing Facility
CATEGORIES:Festival,Fundraiser,Outdoor Fun,Sporting Event
ATTACH;FMTTYPE=image/jpeg:https://clarendoncounty.com/wp-content/uploads/2024/01/SCOTT-Bass-Tournament.jpg
ORGANIZER;CN="Clarendon%20County%20Chamber%20of%20Commerce":MAILTO:chamber@clarendoncounty.com
GEO:33.52168;-80.30601
END:VEVENT
BEGIN:VEVENT
DTSTART;TZID=America/New_York:20240307T070000
DTEND;TZID=America/New_York:20240309T170000
DTSTAMP:20260423T165552
CREATED:20240109T155138Z
LAST-MODIFIED:20240109T155425Z
UID:10001104-1709794800-1710003600@clarendoncounty.com
SUMMARY:Bassmaster Opens - Division 1: Event 2 Santee Cooper Lakes
DESCRIPTION:Bassmaster is back in Clarendon County for the 2024 B.A.S.S. Opens on the Santee Cooper Lakes March 7-9th at the John C. Land\, III Sports Fishing Facility (4404 Greenall Road\, Summerton\, SC 29148). Over 300 boaters and co-anglers will compete over three days for a chance to earn their spot at the Bassmaster Classic. \nBlast off at 7 AM and Weigh-in at 3 PM each day. Follow the action live on www.bassmaster.com or locally at Destination Clarendon\, SC on Facebook. This event is supported by the Clarendon County Chamber of Commerce in association with the Town of Santee and Santee Cooper Country.
URL:https://clarendoncounty.com/event/bassmaster-opens-division-1-event-2-santee-cooper-lakes/
LOCATION:John C. Land\, III Boating & Sports Fishing Facility
CATEGORIES:Children's Event,Community Event,Outdoor Fun,Sporting Event
ATTACH;FMTTYPE=image/png:https://clarendoncounty.com/wp-content/uploads/2024/01/Screenshot-2023-09-28-at-2.59.35-PM.png
ORGANIZER;CN="Clarendon%20County%20Chamber%20of%20Commerce":MAILTO:chamber@clarendoncounty.com
GEO:33.52168;-80.30601
END:VEVENT
BEGIN:VEVENT
DTSTART;TZID=America/New_York:20240220T070000
DTEND;TZID=America/New_York:20240225T170000
DTSTAMP:20260423T165552
CREATED:20240109T153301Z
LAST-MODIFIED:20240109T153306Z
UID:10001103-1708412400-1708880400@clarendoncounty.com
SUMMARY:Major League Fishing - Bass Pro Tour: Stage Two Santee Cooper Lakes
DESCRIPTION:Major League Fishing’s top level of anglers are coming to Clarendon County for the Bass Pro Tour: Stage Two Santee Cooper Lakes. Anglers will begin competition on Tuesday\, February 20th and compete for a chance fish for the 1st Place prize of $100\,000 on Championship Sunday. \nJoin in on the fun at the John C. Land\, III Sports Fishing Facility (4404 Greenall Road\, Summerton\, SC 29148) where blast off will take place each morning of competition. On Saturday and Sunday\, February 24th & 25th head down to the landing for a live watch party with Major League Fishing Vendors on-site and trophy presentation! \nFollow the action all week long on www.majorleaguefishing.com\, and locally at Destination Clarendon\, SC on Facebook.
URL:https://clarendoncounty.com/event/major-league-fishing-bass-pro-tour-stage-two-santee-cooper-lakes/
LOCATION:John C. Land\, III Boating & Sports Fishing Facility
CATEGORIES:Children's Event,Community Event,Outdoor Fun,Sporting Event
ATTACH;FMTTYPE=image/webp:https://clarendoncounty.com/wp-content/uploads/2024/01/BPS-MLF-Bass-Pro-Tour-Logo_V3.webp
ORGANIZER;CN="Clarendon%20County%20Chamber%20of%20Commerce":MAILTO:chamber@clarendoncounty.com
GEO:33.52168;-80.30601
END:VEVENT
BEGIN:VEVENT
DTSTART;TZID=America/New_York:20240215T080000
DTEND;TZID=America/New_York:20240215T110000
DTSTAMP:20260423T165552
CREATED:20240130T195624Z
LAST-MODIFIED:20240130T195624Z
UID:10001123-1707984000-1707994800@clarendoncounty.com
SUMMARY:Landing Clean-up
DESCRIPTION:
URL:https://clarendoncounty.com/event/landing-clean-up/
LOCATION:John C. Land\, III Boating & Sports Fishing Facility
ATTACH;FMTTYPE=image/png:https://clarendoncounty.com/wp-content/uploads/2024/01/Landing-Cleanup-Volunteer-Flyer-2024.png
ORGANIZER;CN="Clarendon%20County%20Chamber%20of%20Commerce":MAILTO:chamber@clarendoncounty.com
GEO:33.52168;-80.30601
END:VEVENT
END:VCALENDAR