BEGIN:VCALENDAR
VERSION:2.0
PRODID:-//Clarendon County Chamber of Commerce - ECPv6.2.0//NONSGML v1.0//EN
CALSCALE:GREGORIAN
METHOD:PUBLISH
X-ORIGINAL-URL:https://clarendoncounty.com
X-WR-CALDESC:Events for Clarendon County Chamber of Commerce
REFRESH-INTERVAL;VALUE=DURATION:PT1H
X-Robots-Tag:noindex
X-PUBLISHED-TTL:PT1H
BEGIN:VTIMEZONE
TZID:America/New_York
BEGIN:DAYLIGHT
TZOFFSETFROM:-0500
TZOFFSETTO:-0400
TZNAME:EDT
DTSTART:20240310T070000
END:DAYLIGHT
BEGIN:STANDARD
TZOFFSETFROM:-0400
TZOFFSETTO:-0500
TZNAME:EST
DTSTART:20241103T060000
END:STANDARD
END:VTIMEZONE
BEGIN:VEVENT
DTSTART;TZID=America/New_York:20240504T160000
DTEND;TZID=America/New_York:20240504T173000
DTSTAMP:20260423T175141
CREATED:20240109T182222Z
LAST-MODIFIED:20240109T182222Z
UID:10001112-1714838400-1714843800@clarendoncounty.com
SUMMARY:Queen City Kayak Bass Fishing - Main Trail
DESCRIPTION:Clarendon County is excited to welcome the QCKBF crew back to our area for another great year of fishing. After visiting earlier in the season on their Southern Trail\, the entire field of anglers will test their fate on the Santee Cooper Lakes on May 4th before attending an awards ceremony at the Manning Junior High School Gymnasium at 4 PM.
URL:https://clarendoncounty.com/event/queen-city-kayak-bass-fishing-main-trail/
CATEGORIES:Outdoor Fun,Sporting Event
ATTACH;FMTTYPE=image/png:https://clarendoncounty.com/wp-content/uploads/2023/01/Queen-City-Logo.png
ORGANIZER;CN="Clarendon%20County%20Chamber%20of%20Commerce":MAILTO:chamber@clarendoncounty.com
END:VEVENT
BEGIN:VEVENT
DTSTART;TZID=America/New_York:20240426T180000
DTEND;TZID=America/New_York:20240427T180000
DTSTAMP:20260423T175141
CREATED:20240108T215143Z
LAST-MODIFIED:20240220T194440Z
UID:10001097-1714154400-1714240800@clarendoncounty.com
SUMMARY:Striped Bass Festival - 2024
DESCRIPTION:Clarendon County’s signature Striped Bass Festival returns for it’s 43rd year on April 26 & 27th. Join in on the festivities on Friday night with the Downtown Concert at the gazebo in Manning. Super Saturday kicks off with the Striped Bass Festival Parade beginning at 10 AM. Enjoy downtown vendors\, car and art shows and festive food trucks for the whole family!
URL:https://clarendoncounty.com/event/striped-bass-festival-2024/
LOCATION:Downtown Manning\, Manning\, SC\, 29102\, United States
CATEGORIES:Children's Event,Community Event,Festival,Outdoor Fun,Show/Concert
ATTACH;FMTTYPE=image/png:https://clarendoncounty.com/wp-content/uploads/2024/01/2024-Striped-Bass-Festival-Dates.png
ORGANIZER;CN="Clarendon%20County%20Chamber%20of%20Commerce":MAILTO:chamber@clarendoncounty.com
END:VEVENT
BEGIN:VEVENT
DTSTART;TZID=America/New_York:20240420T150000
DTEND;TZID=America/New_York:20240420T170000
DTSTAMP:20260423T175141
CREATED:20240109T165748Z
LAST-MODIFIED:20240109T165807Z
UID:10001111-1713625200-1713632400@clarendoncounty.com
SUMMARY:2024 Santee Cooper Open Team Tournament
DESCRIPTION:The Santee Cooper Open Team Tournament (SCOTT) is excited to return for 2024. The tournament will take place at the John C. Land\, III Sports Fishing Facility (4404 Greenall Road\, Summerton\, SC 29148) on Saturday April 20th. For event details or to sign up\, contact the Clarendon County Chamber of Commerce: 803-435-4405 or email tourism@clarendoncounty.com.
URL:https://clarendoncounty.com/event/2024-santee-cooper-open-team-tournament/
LOCATION:John C. Land\, III Boating & Sports Fishing Facility
CATEGORIES:Festival,Fundraiser,Outdoor Fun,Sporting Event
ATTACH;FMTTYPE=image/jpeg:https://clarendoncounty.com/wp-content/uploads/2024/01/SCOTT-Bass-Tournament.jpg
ORGANIZER;CN="Clarendon%20County%20Chamber%20of%20Commerce":MAILTO:chamber@clarendoncounty.com
GEO:33.52168;-80.30601
END:VEVENT
BEGIN:VEVENT
DTSTART;TZID=America/New_York:20240307T070000
DTEND;TZID=America/New_York:20240309T170000
DTSTAMP:20260423T175141
CREATED:20240109T155138Z
LAST-MODIFIED:20240109T155425Z
UID:10001104-1709794800-1710003600@clarendoncounty.com
SUMMARY:Bassmaster Opens - Division 1: Event 2 Santee Cooper Lakes
DESCRIPTION:Bassmaster is back in Clarendon County for the 2024 B.A.S.S. Opens on the Santee Cooper Lakes March 7-9th at the John C. Land\, III Sports Fishing Facility (4404 Greenall Road\, Summerton\, SC 29148). Over 300 boaters and co-anglers will compete over three days for a chance to earn their spot at the Bassmaster Classic. \nBlast off at 7 AM and Weigh-in at 3 PM each day. Follow the action live on www.bassmaster.com or locally at Destination Clarendon\, SC on Facebook. This event is supported by the Clarendon County Chamber of Commerce in association with the Town of Santee and Santee Cooper Country.
URL:https://clarendoncounty.com/event/bassmaster-opens-division-1-event-2-santee-cooper-lakes/
LOCATION:John C. Land\, III Boating & Sports Fishing Facility
CATEGORIES:Children's Event,Community Event,Outdoor Fun,Sporting Event
ATTACH;FMTTYPE=image/png:https://clarendoncounty.com/wp-content/uploads/2024/01/Screenshot-2023-09-28-at-2.59.35-PM.png
ORGANIZER;CN="Clarendon%20County%20Chamber%20of%20Commerce":MAILTO:chamber@clarendoncounty.com
GEO:33.52168;-80.30601
END:VEVENT
BEGIN:VEVENT
DTSTART;TZID=America/New_York:20240220T070000
DTEND;TZID=America/New_York:20240225T170000
DTSTAMP:20260423T175141
CREATED:20240109T153301Z
LAST-MODIFIED:20240109T153306Z
UID:10001103-1708412400-1708880400@clarendoncounty.com
SUMMARY:Major League Fishing - Bass Pro Tour: Stage Two Santee Cooper Lakes
DESCRIPTION:Major League Fishing’s top level of anglers are coming to Clarendon County for the Bass Pro Tour: Stage Two Santee Cooper Lakes. Anglers will begin competition on Tuesday\, February 20th and compete for a chance fish for the 1st Place prize of $100\,000 on Championship Sunday. \nJoin in on the fun at the John C. Land\, III Sports Fishing Facility (4404 Greenall Road\, Summerton\, SC 29148) where blast off will take place each morning of competition. On Saturday and Sunday\, February 24th & 25th head down to the landing for a live watch party with Major League Fishing Vendors on-site and trophy presentation! \nFollow the action all week long on www.majorleaguefishing.com\, and locally at Destination Clarendon\, SC on Facebook.
URL:https://clarendoncounty.com/event/major-league-fishing-bass-pro-tour-stage-two-santee-cooper-lakes/
LOCATION:John C. Land\, III Boating & Sports Fishing Facility
CATEGORIES:Children's Event,Community Event,Outdoor Fun,Sporting Event
ATTACH;FMTTYPE=image/webp:https://clarendoncounty.com/wp-content/uploads/2024/01/BPS-MLF-Bass-Pro-Tour-Logo_V3.webp
ORGANIZER;CN="Clarendon%20County%20Chamber%20of%20Commerce":MAILTO:chamber@clarendoncounty.com
GEO:33.52168;-80.30601
END:VEVENT
BEGIN:VEVENT
DTSTART;TZID=America/New_York:20240215T080000
DTEND;TZID=America/New_York:20240215T110000
DTSTAMP:20260423T175141
CREATED:20240130T195624Z
LAST-MODIFIED:20240130T195624Z
UID:10001123-1707984000-1707994800@clarendoncounty.com
SUMMARY:Landing Clean-up
DESCRIPTION:
URL:https://clarendoncounty.com/event/landing-clean-up/
LOCATION:John C. Land\, III Boating & Sports Fishing Facility
ATTACH;FMTTYPE=image/png:https://clarendoncounty.com/wp-content/uploads/2024/01/Landing-Cleanup-Volunteer-Flyer-2024.png
ORGANIZER;CN="Clarendon%20County%20Chamber%20of%20Commerce":MAILTO:chamber@clarendoncounty.com
GEO:33.52168;-80.30601
END:VEVENT
END:VCALENDAR